BEGIN:VCALENDAR
VERSION:2.0
PRODID:-//Jewish Detroit Community Calendar - ECPv6.15.11//NONSGML v1.0//EN
CALSCALE:GREGORIAN
METHOD:PUBLISH
X-WR-CALNAME:Jewish Detroit Community Calendar
X-ORIGINAL-URL:https://jewishdetroitcalendar.org
X-WR-CALDESC:Events for Jewish Detroit Community Calendar
REFRESH-INTERVAL;VALUE=DURATION:PT1H
X-Robots-Tag:noindex
X-PUBLISHED-TTL:PT1H
BEGIN:VTIMEZONE
TZID:America/Detroit
BEGIN:DAYLIGHT
TZOFFSETFROM:-0500
TZOFFSETTO:-0400
TZNAME:EDT
DTSTART:20250309T070000
END:DAYLIGHT
BEGIN:STANDARD
TZOFFSETFROM:-0400
TZOFFSETTO:-0500
TZNAME:EST
DTSTART:20251102T060000
END:STANDARD
BEGIN:DAYLIGHT
TZOFFSETFROM:-0500
TZOFFSETTO:-0400
TZNAME:EDT
DTSTART:20260308T070000
END:DAYLIGHT
BEGIN:STANDARD
TZOFFSETFROM:-0400
TZOFFSETTO:-0500
TZNAME:EST
DTSTART:20261101T060000
END:STANDARD
BEGIN:DAYLIGHT
TZOFFSETFROM:-0500
TZOFFSETTO:-0400
TZNAME:EDT
DTSTART:20270314T070000
END:DAYLIGHT
BEGIN:STANDARD
TZOFFSETFROM:-0400
TZOFFSETTO:-0500
TZNAME:EST
DTSTART:20271107T060000
END:STANDARD
END:VTIMEZONE
BEGIN:VEVENT
DTSTART;TZID=America/Detroit:20260424T120000
DTEND;TZID=America/Detroit:20260424T130000
DTSTAMP:20260424T014547
CREATED:20260410T011519Z
LAST-MODIFIED:20260424T054437Z
UID:10008464-1777032000-1777035600@jewishdetroitcalendar.org
SUMMARY:Walking Toward Shabbat with Adamah - April
DESCRIPTION:**A Spring Stroll in April!** \nJoin us as we gather for an enriching guided nature walk along the WestBloomfield Trail. We’ll see friends old and new and feel the calming andrestorative impacts of time outside together. \nThe walk will include opening and closing circles and a Jewish environmentalteaching from Rabbi Shribman of Temple Kol Ami. \nPlease wear comfortable shoes/boots\, bring a full water bottle and an openheart. \nHave questions – Reach out to[detroit@adamah.org](https://mailto:detroit@adamah.org)! \nOrganized by: Temple Kol Ami\, Adamah Detroit \nView event on Jlive: https://jlive.app/events/15429
URL:https://jewishdetroitcalendar.org/event/walking-toward-shabbat-with-adamah-april/
LOCATION:West Bloomfield Trail W Bloomfield Trail\,
CATEGORIES:All Ages,Educational,Environment and Sustainability,Health & Wellness,Nature,Outdoors,Parking (free)
ATTACH;FMTTYPE=image/jpeg:https://jewishdetroitcalendar.org/wp-content/uploads/2026/04/IMG_9524-1jh3HK-scaled.jpg
ORGANIZER;CN="Adamah Detroit":MAILTO:detroit@adamah.org
END:VEVENT
BEGIN:VEVENT
DTSTART;TZID=America/Detroit:20260424T173000
DTEND;TZID=America/Detroit:20260424T213000
DTSTAMP:20260424T014547
CREATED:20250725T161450Z
LAST-MODIFIED:20251017T174721Z
UID:10005272-1777051800-1777066200@jewishdetroitcalendar.org
SUMMARY:EPIC StepUp NEXTGen Detroit
DESCRIPTION:NEXTGen Detroit Fundraier
URL:https://jewishdetroitcalendar.org/event/epic-stepup-nextgen-detroit/
ORGANIZER;CN="Federation NEXTGen Detroit":MAILTO:NEXTGenDetroit@jfmd.org
END:VEVENT
BEGIN:VEVENT
DTSTART;TZID=America/Detroit:20260424T180000
DTEND;TZID=America/Detroit:20260424T210000
DTSTAMP:20260424T014547
CREATED:20260401T170046Z
LAST-MODIFIED:20260424T054437Z
UID:10008451-1777053600-1777064400@jewishdetroitcalendar.org
SUMMARY:EPIC StepUp: The Premiere Dinner
DESCRIPTION:Please join NEXTGen Detroit’s Ben-Gurion and Herzl Societies as we welcome inShabbat and celebrate the launch of the EPIC StepUp Program at the InauguralDinner. Enjoy a cocktail hour\, family-style Friday night dinner of classicJewish favorites and our special guest comedian\, podcast host and writer EitanLevine([@eitanthegoalie](https://www.instagram.com/eitanthegoalie?igsh=MThmd3U0cmZnb3kxNA==)).This is a wonderful opportunity to meet fellow young Jewish adults who aredeeply committed to ensuring a vibrant Jewish future here in Detroit\, Israeland around the world through their support in the Federation’s AnnualCampaign. \n6 – 7 PM: Cocktail Hour | Explore the Market | Meet & Greet with Eitan Levine  \n7 – 9 PM: Dinner and Program   \nDietary laws observed. \nSnappy casual attire suggested.   \nThis event is intended for households who have committed to the EPIC StepUPprogram or have already made a BGS or Herzl Society level gift to theFederation’s 2026 Annual Campaign. \n**About EPIC  StepUP** \nThe EPIC StepUp program is a pathway for welcoming and cultivating the nextgeneration of Ben-Gurion Society (BGS) donors. EPIC StepUp invitesparticipants to “step up” their giving over three years\, with a clear andachievable plan: year one: a $500 gift\, year two: a $750 gift and year three:a $1\,000 BGS-level gift to the Federation’s Annual Campaign. From the momentthey join\, EPIC StepUp participants are recognized and celebrated as BGSdonors\, with access to all BGS community experiences. **EPIC StepUp is broughtto the community by Sue and Alan J. Kaufman & Family**. \n**Thank you to Our Leadership**   \n_Event Chairs:_   \nAlec Cherrin \nNatalie Gordon \nMolly Moss \nJonah Newman \nGage Wakula \n_NEXTGen Detroit President_   \nAndrew Luckoff \n_NEXTGen Detroit President Elect_   \nAbigail Epstein \n_NEXTGen Detroit Immediate Past President_   \nSpencer Lucker \n_NEXTGen Detroit Campaign VPs_   \nErica Dovitz\, Nicole MacWilliams\, Andrew Moss and Blair Thoenes \n _BGS Co-Chairs_   \nJacob R. Gordon and Taylor Weintraub \n**Thank you to Our Sponsors** \n**Presenter** \nThe Sue and Alan J. Kaufman & Family \nBurns & Wilcox \nKaufman Financial Group \n**Leader** \nAJM Packaging \n**Advocate** \nErin & Jonathan Modiano \nLARC Properties \n**Friend** \nCivic Companies \nOrganized by: Jewish Federation NEXTGen Detroit \nView event on Jlive: https://jlive.app/events/15223
URL:https://jewishdetroitcalendar.org/event/epic-stepup-the-premiere-dinner/
LOCATION:The Rust Belt Market 22801 Woodward Ave\, Ferndale
CATEGORIES:Young Adults
ATTACH;FMTTYPE=image/jpeg:https://jewishdetroitcalendar.org/wp-content/uploads/2026/04/26_NXG_StepUp_Dinner_960x600_Jlive-NFPccA.jpg
ORGANIZER;CN="Jewish Federation NEXTGen Detroit":MAILTO:nextgendetroit@jfmd.org
END:VEVENT
BEGIN:VEVENT
DTSTART;TZID=America/Detroit:20260424T190000
DTEND;TZID=America/Detroit:20260424T220000
DTSTAMP:20260424T014547
CREATED:20260210T171730Z
LAST-MODIFIED:20260424T054437Z
UID:10007217-1777057200-1777068000@jewishdetroitcalendar.org
SUMMARY:Kabbalat Shabbat Service with Coleen Dieker
DESCRIPTION:**Join us for a special Kabbalat Shabbat Service with Coleen Dieker!** \nShe is back! Coleen Dieker is one of the most gifted and dynamic singer/multi-instrumentalists on the scene today. When not snowboarding or jumping out ofplanes as a licensed skydiver\, she can be found music directing projects fromhouses of worship to traditional Spanish music to Irish Rock and beyond. Alongwith her captivating vocals and songwriting\, Coleen adds piano\, guitar\, flute\,ukulele and violin with astonishing virtuosity and passion. \nColeen will be visiting Temple Israel as one of many weekend Artist-in-Residence appearances at leading synagogues across the country. Please join usfor Kabbalat Shabbat on Friday\, April 24th at 7 pm. \n**Admission is free and open to the community! All are welcome!** \nNo need to RSVP. \nLearn more here: [https://www.temple-israel.org/event/ColeenDieker](https://www.temple-israel.org/event/ColeenDieker) \nQuestions? Please connect with Maya at [Maya@temple-israel.org](https://mailto:Maya@temple-israel.org) \n**_Coleen’s visit to Temple is generously sponsored by Joyce Keller & MichaelWalch._** \nOrganized by: Temple Israel \nView event on Jlive: https://jlive.app/events/14639
URL:https://jewishdetroitcalendar.org/event/kabbalat-shabbat-service-with-coleen-dieker-2/
LOCATION:Temple Israel 5725 Walnut Lake Rd\, West Bloomfield
ATTACH;FMTTYPE=image/jpeg:https://jewishdetroitcalendar.org/wp-content/uploads/2026/03/5182_ShabbatwColeenDieker_JLive_2-MSwEkz.jpg
ORGANIZER;CN="Temple Israel":MAILTO:kheraud@temple-israel.org
END:VEVENT
END:VCALENDAR