BEGIN:VCALENDAR
VERSION:2.0
PRODID:-//Jewish Detroit Community Calendar - ECPv6.15.11//NONSGML v1.0//EN
CALSCALE:GREGORIAN
METHOD:PUBLISH
X-ORIGINAL-URL:https://jewishdetroitcalendar.org
X-WR-CALDESC:Events for Jewish Detroit Community Calendar
REFRESH-INTERVAL;VALUE=DURATION:PT1H
X-Robots-Tag:noindex
X-PUBLISHED-TTL:PT1H
BEGIN:VTIMEZONE
TZID:America/Detroit
BEGIN:DAYLIGHT
TZOFFSETFROM:-0500
TZOFFSETTO:-0400
TZNAME:EDT
DTSTART:20250309T070000
END:DAYLIGHT
BEGIN:STANDARD
TZOFFSETFROM:-0400
TZOFFSETTO:-0500
TZNAME:EST
DTSTART:20251102T060000
END:STANDARD
BEGIN:DAYLIGHT
TZOFFSETFROM:-0500
TZOFFSETTO:-0400
TZNAME:EDT
DTSTART:20260308T070000
END:DAYLIGHT
BEGIN:STANDARD
TZOFFSETFROM:-0400
TZOFFSETTO:-0500
TZNAME:EST
DTSTART:20261101T060000
END:STANDARD
BEGIN:DAYLIGHT
TZOFFSETFROM:-0500
TZOFFSETTO:-0400
TZNAME:EDT
DTSTART:20270314T070000
END:DAYLIGHT
BEGIN:STANDARD
TZOFFSETFROM:-0400
TZOFFSETTO:-0500
TZNAME:EST
DTSTART:20271107T060000
END:STANDARD
END:VTIMEZONE
BEGIN:VEVENT
DTSTART;TZID=America/Detroit:20260503T000000
DTEND;TZID=America/Detroit:20260624T000000
DTSTAMP:20260419T084252
CREATED:20260410T011618Z
LAST-MODIFIED:20260412T224729Z
UID:10008469-1777766400-1782259200@jewishdetroitcalendar.org
SUMMARY:Opening Reception: 6th Michigan Regional Glass Exhibition
DESCRIPTION:**6th Michigan Regional Glass Exhibition 2026** \n**Exhibit Dates:** May 3 – June 24\, 2026 \n**Opening Reception:** Sunday\, May 3\, 1 – 4 p.m. \nStep into a world where fire meets form in our 6th Michigan Regional GlassExhibit\, a captivating showcase of sculptural and functional glass works thatcelebrate the depth\, diversity\, and innovation of glass artists from acrossthe Michigan/Ohio region. Curated with **Michigan Hot Glass** and juried byrenowned artists **Ryan Thompson**  and **Andy Koupal** \, this showcasehighlights the rich tradition and evolving future of glassmaking. \n_Special Feature in the Upper Gallery:_**“Tchotchke”** — A tribute to AlbertYoung\, legendary artist and founder of Michigan Hot Glass. This showcasebrings to life an exhibit concept he envisioned before his passing. \nArtist Spotlight: (TBD) \n**Exhibit Sponsors** : \nDr. Judy Balan Pearl\, Prudence Bernstein Trust\, Esther Hankin\, Rebecca & FredHankin\, Helene & Arthur Indianer\, Manat Foundation\, Nancy & Sam Shamie \n**Program Sponsors:** \nJudy & Dr. John Marx\, Arlene & Jack Schultz \nFor more on exhibits and events\, visit[charachgallery.org](https://charachgallery.org/). \n**OPEN HOURS DURING EXHIBITS:** \n_Sunday\, Tuesday\, Wednesday – 10 am – 4 pm_ \n _Thursday – 11 am – 7 pm_ \n _*Visit the website or social media for up-to-date information & holidayclosures._ \nOrganized by: Janice Charach Gallery\, The J \nView event on Jlive: https://jlive.app/events/14608
URL:https://jewishdetroitcalendar.org/event/opening-reception-6th-michigan-regional-glass-exhibition-2/
LOCATION:Janice Charach Gallery\, The J 6600 W Maple Rd\,
CATEGORIES:Adults,Arts & Culture,Beverages (non alcoholic),Cocktails and Drinks,Coffee,Items for sale,Kosher,Older Adults,Parking (free),Teens,WiFi,Young Adults
ATTACH;FMTTYPE=image/jpeg:https://jewishdetroitcalendar.org/wp-content/uploads/2026/04/Glass_exhibit_-_HERO_IMAGE_jlive_copy-R00dzP.jpg
ORGANIZER;CN="Janice Charach Gallery":MAILTO:gallery@jccdet.org
END:VEVENT
BEGIN:VEVENT
DTSTART;TZID=America/Detroit:20260519T110000
DTEND;TZID=America/Detroit:20260519T140000
DTSTAMP:20260419T084252
CREATED:20250819T171042Z
LAST-MODIFIED:20250819T171042Z
UID:10006012-1779188400-1779199200@jewishdetroitcalendar.org
SUMMARY:Jewish Women's Foundation 2026 Annual Meeting
DESCRIPTION:
URL:https://jewishdetroitcalendar.org/event/jewish-womens-foundation-2026-annual-meeting/
END:VEVENT
BEGIN:VEVENT
DTSTART;TZID=America/Detroit:20260519T193000
DTEND;TZID=America/Detroit:20260519T203000
DTSTAMP:20260419T084252
CREATED:20251205T143532Z
LAST-MODIFIED:20251205T143535Z
UID:10006645-1779219000-1779222600@jewishdetroitcalendar.org
SUMMARY:In Person Adult Education Class
DESCRIPTION:Join Rabbi Gamer at Congregation Beth Shalom for an engaging class on developing our own beliefs and values\n\nTopic “Constructing Your Theology”
URL:https://jewishdetroitcalendar.org/event/in-person-adult-education-class-3/2026-05-19/
LOCATION:Congregation Beth Shalom 14601 Lincoln St\, Oak Park
CATEGORIES:Adult Education,Education,Jewish Education
END:VEVENT
END:VCALENDAR