BEGIN:VCALENDAR
VERSION:2.0
PRODID:-//Jewish Detroit Community Calendar - ECPv6.15.11//NONSGML v1.0//EN
CALSCALE:GREGORIAN
METHOD:PUBLISH
X-WR-CALNAME:Jewish Detroit Community Calendar
X-ORIGINAL-URL:https://jewishdetroitcalendar.org
X-WR-CALDESC:Events for Jewish Detroit Community Calendar
REFRESH-INTERVAL;VALUE=DURATION:PT1H
X-Robots-Tag:noindex
X-PUBLISHED-TTL:PT1H
BEGIN:VTIMEZONE
TZID:America/Detroit
BEGIN:DAYLIGHT
TZOFFSETFROM:-0500
TZOFFSETTO:-0400
TZNAME:EDT
DTSTART:20250309T070000
END:DAYLIGHT
BEGIN:STANDARD
TZOFFSETFROM:-0400
TZOFFSETTO:-0500
TZNAME:EST
DTSTART:20251102T060000
END:STANDARD
BEGIN:DAYLIGHT
TZOFFSETFROM:-0500
TZOFFSETTO:-0400
TZNAME:EDT
DTSTART:20260308T070000
END:DAYLIGHT
BEGIN:STANDARD
TZOFFSETFROM:-0400
TZOFFSETTO:-0500
TZNAME:EST
DTSTART:20261101T060000
END:STANDARD
BEGIN:DAYLIGHT
TZOFFSETFROM:-0500
TZOFFSETTO:-0400
TZNAME:EDT
DTSTART:20270314T070000
END:DAYLIGHT
BEGIN:STANDARD
TZOFFSETFROM:-0400
TZOFFSETTO:-0500
TZNAME:EST
DTSTART:20271107T060000
END:STANDARD
END:VTIMEZONE
BEGIN:VEVENT
DTSTART;TZID=America/Detroit:20260423T100000
DTEND;TZID=America/Detroit:20260423T130000
DTSTAMP:20260419T131021
CREATED:20260305T171500Z
LAST-MODIFIED:20260412T224505Z
UID:10007446-1776938400-1776949200@jewishdetroitcalendar.org
SUMMARY:Volunteer to Help Make Gesher's Fundraising Event for Women's Programs a Success!
DESCRIPTION:Play an important role in the success of our annual **Trade SecretsFUNdraiser\, on April 23\, 2026\,** which benefits our flagship _Women to Work_program as well as our financial education classes\, homebuyer training\, careercounseling services\, and computer classes that empower women to achievepersonal success with renewed skills and confidence\, and the ability tosupport themselves and their families. \nThis year we are excited to welcome **Kristen Gross** as our honoree andkeynote speaker. An attorney\, entrepreneur\, and nonprofit leader\, Kristen willshare the secrets to her success and inspire attendees with her life story. Inaddition to honoring Kristen\, Gesher will celebrate the many women who havesuccessfully graduated from Gesher’s workforce development classes. \n**Morning Event Assistants** \n  * help with our silent auction set up and staging  * pack gift bags for our guests\, and   * assist with other set up tasks. \n_Shifts: 10 am to 1 pm or 11am to 2 pm_ \n**Evening Event Assistants** \n  * welcome guests  * staff our registration table  * assist guests with their silent auction bids\, and  * help prepare for the auction check out process. \n_Shift: 6 pm to 9 pm_ \n**Qualifications:** \n  * Must be 18 or older  * Able to lift up to 10 lbs. and stand for long periods  * Having comfort with technology and apps a plus!  * Criminal background check required \n**Location:** Detroit Marriott\, Troy\, 200 W Big Beaver Rd\, Troy\, MI 48084 \n**Dress:** Morning – casual\, Evening – business casual \n**Lunch and dinner provided.** \nOrganized by: Gesher Human Services \nView event on Jlive: https://jlive.app/events/15067
URL:https://jewishdetroitcalendar.org/event/volunteer-to-help-make-geshers-fundraising-event-for-womens-programs-a-success-2/
LOCATION:200 W Big Beaver Rd 200 W Big Beaver Rd\, Troy
CATEGORIES:Adults,Career,College Students,Food Provided,Older Adults,Parking (free),Valet parking ($),Volunteering,Women,Young Adults
ATTACH;FMTTYPE=image/png:https://jewishdetroitcalendar.org/wp-content/uploads/2026/03/2025_Overcoming_Adversity_in_the_Workplace__1-Soe6L4.png
ORGANIZER;CN="Gesher Human Services":MAILTO:employmenthelp@geshermi.org
END:VEVENT
BEGIN:VEVENT
DTSTART;TZID=America/Detroit:20260423T110000
DTEND;TZID=America/Detroit:20260423T140000
DTSTAMP:20260419T131021
CREATED:20260305T171500Z
LAST-MODIFIED:20260412T224505Z
UID:10007445-1776942000-1776952800@jewishdetroitcalendar.org
SUMMARY:Volunteer to Help Make Gesher's Fundraising Event for Women's Programs a Success!
DESCRIPTION:Play an important role in the success of our annual **Trade SecretsFUNdraiser\, on April 23\, 2026\,** which benefits our flagship _Women to Work_program as well as our financial education classes\, homebuyer training\, careercounseling services\, and computer classes that empower women to achievepersonal success with renewed skills and confidence\, and the ability tosupport themselves and their families. \nThis year we are excited to welcome **Kristen Gross** as our honoree andkeynote speaker. An attorney\, entrepreneur\, and nonprofit leader\, Kristen willshare the secrets to her success and inspire attendees with her life story. Inaddition to honoring Kristen\, Gesher will celebrate the many women who havesuccessfully graduated from Gesher’s workforce development classes. \n**Morning Event Assistants** \n  * help with our silent auction set up and staging  * pack gift bags for our guests\, and   * assist with other set up tasks. \n_Shifts: 10 am to 1 pm or 11am to 2 pm_ \n**Evening Event Assistants** \n  * welcome guests  * staff our registration table  * assist guests with their silent auction bids\, and  * help prepare for the auction check out process. \n_Shift: 6 pm to 9 pm_ \n**Qualifications:** \n  * Must be 18 or older  * Able to lift up to 10 lbs. and stand for long periods  * Having comfort with technology and apps a plus!  * Criminal background check required \n**Location:** Detroit Marriott\, Troy\, 200 W Big Beaver Rd\, Troy\, MI 48084 \n**Dress:** Morning – casual\, Evening – business casual \n**Lunch and dinner provided.** \nOrganized by: Gesher Human Services \nView event on Jlive: https://jlive.app/events/15067
URL:https://jewishdetroitcalendar.org/event/volunteer-to-help-make-geshers-fundraising-event-for-womens-programs-a-success/
LOCATION:200 W Big Beaver Rd 200 W Big Beaver Rd\, Troy
CATEGORIES:Adults,Career,College Students,Food Provided,Older Adults,Parking (free),Valet parking ($),Volunteering,Women,Young Adults
ATTACH;FMTTYPE=image/png:https://jewishdetroitcalendar.org/wp-content/uploads/2026/03/2025_Overcoming_Adversity_in_the_Workplace__1-Soe6L4.png
ORGANIZER;CN="Gesher Human Services":MAILTO:employmenthelp@geshermi.org
END:VEVENT
BEGIN:VEVENT
DTSTART;TZID=America/Detroit:20260423T180000
DTEND;TZID=America/Detroit:20260423T210000
DTSTAMP:20260419T131021
CREATED:20260305T171500Z
LAST-MODIFIED:20260412T224505Z
UID:10007447-1776967200-1776978000@jewishdetroitcalendar.org
SUMMARY:Volunteer to Help Make Gesher's Fundraising Event for Women's Programs a Success!
DESCRIPTION:Play an important role in the success of our annual **Trade SecretsFUNdraiser\, on April 23\, 2026\,** which benefits our flagship _Women to Work_program as well as our financial education classes\, homebuyer training\, careercounseling services\, and computer classes that empower women to achievepersonal success with renewed skills and confidence\, and the ability tosupport themselves and their families. \nThis year we are excited to welcome **Kristen Gross** as our honoree andkeynote speaker. An attorney\, entrepreneur\, and nonprofit leader\, Kristen willshare the secrets to her success and inspire attendees with her life story. Inaddition to honoring Kristen\, Gesher will celebrate the many women who havesuccessfully graduated from Gesher’s workforce development classes. \n**Morning Event Assistants** \n  * help with our silent auction set up and staging  * pack gift bags for our guests\, and   * assist with other set up tasks. \n_Shifts: 10 am to 1 pm or 11am to 2 pm_ \n**Evening Event Assistants** \n  * welcome guests  * staff our registration table  * assist guests with their silent auction bids\, and  * help prepare for the auction check out process. \n_Shift: 6 pm to 9 pm_ \n**Qualifications:** \n  * Must be 18 or older  * Able to lift up to 10 lbs. and stand for long periods  * Having comfort with technology and apps a plus!  * Criminal background check required \n**Location:** Detroit Marriott\, Troy\, 200 W Big Beaver Rd\, Troy\, MI 48084 \n**Dress:** Morning – casual\, Evening – business casual \n**Lunch and dinner provided.** \nOrganized by: Gesher Human Services \nView event on Jlive: https://jlive.app/events/15067
URL:https://jewishdetroitcalendar.org/event/volunteer-to-help-make-geshers-fundraising-event-for-womens-programs-a-success-3/
LOCATION:200 W Big Beaver Rd 200 W Big Beaver Rd\, Troy
CATEGORIES:Adults,Career,College Students,Food Provided,Older Adults,Parking (free),Valet parking ($),Volunteering,Women,Young Adults
ATTACH;FMTTYPE=image/png:https://jewishdetroitcalendar.org/wp-content/uploads/2026/03/2025_Overcoming_Adversity_in_the_Workplace__1-Soe6L4.png
ORGANIZER;CN="Gesher Human Services":MAILTO:employmenthelp@geshermi.org
END:VEVENT
BEGIN:VEVENT
DTSTART;TZID=America/Detroit:20260423T193000
DTEND;TZID=America/Detroit:20260423T210000
DTSTAMP:20260419T131021
CREATED:20260204T144455Z
LAST-MODIFIED:20260412T224505Z
UID:10007168-1776972600-1776978000@jewishdetroitcalendar.org
SUMMARY:Music of Billy Joel and Elton John Starring Michael Cavanaugh
DESCRIPTION:The **Music of Billy Joel and Elton John**  features the greatest hits ofthese two great rock piano legends. Songs include: “Piano Man”\, “Rocket Man”\,“Bennie and the Jets”\, “Movin’ Out”\, “I’m Still Standing”\, “My Life”\,_ _ andmany more. **PollStar  **ranked this show in the Top 50 touring Acts/Shows thelast two years._ _ \n**Michael Cavanaugh**  stars in this production. He was handpicked by BillyJoel to star in the hit Broadway musical **_Movin’ Out_**. Michael receivedboth Tony and Grammy nominations in the lead role. Billboard calls him the“New Voice of the American Rock and Roll Songbook”. Broadway World referred toCavanaugh as “The New Piano Man”. Reuters named Cavanaugh _Entertainer of theYear_. \n_“Amazing”_  – The New York Times \nProduced with support from **Burton A. Zipser and Sandra D. ZipserFoundation.** \nOrganized by: The Berman Center for the Performing Arts\, The J \nView event on Jlive: https://jlive.app/events/14554
URL:https://jewishdetroitcalendar.org/event/music-of-billy-joel-and-elton-john-starring-michael-cavanaugh/
LOCATION:The Berman Center For The Performing Arts 6600 W Maple Rd\, West Bloomfield
CATEGORIES:Adults,Parking (free),Wheelchair Accessible
ATTACH;FMTTYPE=image/png:https://jewishdetroitcalendar.org/wp-content/uploads/2026/02/26.BERMAN.AneenadMartin-Jlive-960x600-2Z0Noe.png
ORGANIZER;CN="The Berman Center for the Performing Arts":MAILTO:theberman@jccdet.org
END:VEVENT
END:VCALENDAR