BEGIN:VCALENDAR
VERSION:2.0
PRODID:-//Jewish Detroit Community Calendar - ECPv6.15.11//NONSGML v1.0//EN
CALSCALE:GREGORIAN
METHOD:PUBLISH
X-WR-CALNAME:Jewish Detroit Community Calendar
X-ORIGINAL-URL:https://jewishdetroitcalendar.org
X-WR-CALDESC:Events for Jewish Detroit Community Calendar
REFRESH-INTERVAL;VALUE=DURATION:PT1H
X-Robots-Tag:noindex
X-PUBLISHED-TTL:PT1H
BEGIN:VTIMEZONE
TZID:America/Detroit
BEGIN:DAYLIGHT
TZOFFSETFROM:-0500
TZOFFSETTO:-0400
TZNAME:EDT
DTSTART:20250309T070000
END:DAYLIGHT
BEGIN:STANDARD
TZOFFSETFROM:-0400
TZOFFSETTO:-0500
TZNAME:EST
DTSTART:20251102T060000
END:STANDARD
BEGIN:DAYLIGHT
TZOFFSETFROM:-0500
TZOFFSETTO:-0400
TZNAME:EDT
DTSTART:20260308T070000
END:DAYLIGHT
BEGIN:STANDARD
TZOFFSETFROM:-0400
TZOFFSETTO:-0500
TZNAME:EST
DTSTART:20261101T060000
END:STANDARD
BEGIN:DAYLIGHT
TZOFFSETFROM:-0500
TZOFFSETTO:-0400
TZNAME:EDT
DTSTART:20270314T070000
END:DAYLIGHT
BEGIN:STANDARD
TZOFFSETFROM:-0400
TZOFFSETTO:-0500
TZNAME:EST
DTSTART:20271107T060000
END:STANDARD
END:VTIMEZONE
BEGIN:VEVENT
DTSTART;TZID=America/Detroit:20260427T190000
DTEND;TZID=America/Detroit:20260427T210000
DTSTAMP:20260419T131016
CREATED:20260302T174454Z
LAST-MODIFIED:20260412T224531Z
UID:10007357-1777316400-1777323600@jewishdetroitcalendar.org
SUMMARY:Never Mind the Happy: Showbiz Stories from a Sore Winner featuring Marc Shaiman
DESCRIPTION:Join us for an opening night smash celebration! \n7 PM: Conversation with Tony Award-winner MARC SHAIMAN \nTalk with live performances by Marc Shaiman\, Chelsea Packard (Broadway’sWicked)\, and surprise guests! \nJoin award-winning composer/lyricist **MARC SHAIMAN** (_Hairspray\, Sister Act\,Smash_ and many others) for a peek behind the curtain of life on Broadway\, inHollywood\, and on television\, with a no-holds-barred conversation about his NYTimes bestselling memoir. An unforgettable tribute to the power of music\, thepull of the spotlight\, and the beat that never stops! \nIn conversation with **JULIE SMITH YOLLES**. \nBook signing follows. Discounted book available at time of ticket purchase. \nCo-sponsored by the 75th Detroit Jewish Book Fair. \nBecome a Film Festival Patron today and attend this event for free as part ofyour Patron package: [2026 Detroit Jewish Film FestivalPATRONS](https://give.thejdetroit.org/2026-detroit-jewish-film-festival-patrons) \n**Gold Film Sponsor:** Burton A. Zipser & Sandra D. Zipser Foundation \n**Bronze Film Sponsor:** Henry & Delia Meyers Library \n**Sponsors:** The Berman; 75th Detroit Jewish Book Fair; JRec \nOrganized by: The J\, Lenore Marwil Detroit Jewish Film Festival \nView event on Jlive: https://jlive.app/events/14976
URL:https://jewishdetroitcalendar.org/event/never-mind-the-happy-showbiz-stories-from-a-sore-winner-featuring-marc-shaiman/
LOCATION:The Berman Center For The Performing Arts 6600 W Maple Rd\,
CATEGORIES:Adults,Parking (free),Special Guest
ATTACH;FMTTYPE=image/jpeg:https://jewishdetroitcalendar.org/wp-content/uploads/2026/03/26.FF_.JLiveCards-960x600-MarcShaiman-ZNQMOu.jpg
ORGANIZER;CN="Lenore Marwil Detroit Jewish Film Festival":MAILTO:filmfestival@jccdet.org
END:VEVENT
END:VCALENDAR