BEGIN:VCALENDAR
VERSION:2.0
PRODID:-//Jewish Detroit Community Calendar - ECPv6.15.11//NONSGML v1.0//EN
CALSCALE:GREGORIAN
METHOD:PUBLISH
X-WR-CALNAME:Jewish Detroit Community Calendar
X-ORIGINAL-URL:https://jewishdetroitcalendar.org
X-WR-CALDESC:Events for Jewish Detroit Community Calendar
REFRESH-INTERVAL;VALUE=DURATION:PT1H
X-Robots-Tag:noindex
X-PUBLISHED-TTL:PT1H
BEGIN:VTIMEZONE
TZID:America/Detroit
BEGIN:DAYLIGHT
TZOFFSETFROM:-0500
TZOFFSETTO:-0400
TZNAME:EDT
DTSTART:20250309T070000
END:DAYLIGHT
BEGIN:STANDARD
TZOFFSETFROM:-0400
TZOFFSETTO:-0500
TZNAME:EST
DTSTART:20251102T060000
END:STANDARD
BEGIN:DAYLIGHT
TZOFFSETFROM:-0500
TZOFFSETTO:-0400
TZNAME:EDT
DTSTART:20260308T070000
END:DAYLIGHT
BEGIN:STANDARD
TZOFFSETFROM:-0400
TZOFFSETTO:-0500
TZNAME:EST
DTSTART:20261101T060000
END:STANDARD
BEGIN:DAYLIGHT
TZOFFSETFROM:-0500
TZOFFSETTO:-0400
TZNAME:EDT
DTSTART:20270314T070000
END:DAYLIGHT
BEGIN:STANDARD
TZOFFSETFROM:-0400
TZOFFSETTO:-0500
TZNAME:EST
DTSTART:20271107T060000
END:STANDARD
END:VTIMEZONE
BEGIN:VEVENT
DTSTART;TZID=America/Detroit:20260429T190000
DTEND;TZID=America/Detroit:20260429T210000
DTSTAMP:20260419T131053
CREATED:20260302T174455Z
LAST-MODIFIED:20260412T224544Z
UID:10007358-1777489200-1777496400@jewishdetroitcalendar.org
SUMMARY:Ethan Bloom
DESCRIPTION:This heartfelt coming-of-age comedy navigates the perils of love\, loss\, andspiritual identity as Ethan Bloom attempts to evade his Bar Mitzvah byconverting to Catholicism. Through the wisdom of an unconventional rabbi\, thelove of his complicated family and his first romance\, he discovers that faithisn’t about choosing sides—it’s about honoring who we really are. 95 minutes\,English \nTickets: $12 advanced purchase. $15 at the door. \n**Silver Film Sponsor:** B’nai B’rith Great Lakes Region \n**Bronze Film Sponsors:** Adat Shalom Synagogue Sisterhood; Adult EducationCommittee at Temple \nEmanu-El; National Council of Jewish Women | Michigan \n**Sponsor:** JKids and Families \nOrganized by: The J\, Lenore Marwil Detroit Jewish Film Festival \nView event on Jlive: https://jlive.app/events/14994
URL:https://jewishdetroitcalendar.org/event/ethan-bloom/
LOCATION:The Berman Center For The Performing Arts 6600 W Maple Rd\,
CATEGORIES:Adults,Parking (free)
ATTACH;FMTTYPE=image/jpeg:https://jewishdetroitcalendar.org/wp-content/uploads/2026/03/26.FF_.JLiveCards-960x600-EthanBloom-cIiJcz.jpg
ORGANIZER;CN="Lenore Marwil Detroit Jewish Film Festival":MAILTO:filmfestival@jccdet.org
END:VEVENT
END:VCALENDAR