BEGIN:VCALENDAR
VERSION:2.0
PRODID:-//Jewish Detroit Community Calendar - ECPv6.15.11//NONSGML v1.0//EN
CALSCALE:GREGORIAN
METHOD:PUBLISH
X-WR-CALNAME:Jewish Detroit Community Calendar
X-ORIGINAL-URL:https://jewishdetroitcalendar.org
X-WR-CALDESC:Events for Jewish Detroit Community Calendar
REFRESH-INTERVAL;VALUE=DURATION:PT1H
X-Robots-Tag:noindex
X-PUBLISHED-TTL:PT1H
BEGIN:VTIMEZONE
TZID:America/Detroit
BEGIN:DAYLIGHT
TZOFFSETFROM:-0500
TZOFFSETTO:-0400
TZNAME:EDT
DTSTART:20250309T070000
END:DAYLIGHT
BEGIN:STANDARD
TZOFFSETFROM:-0400
TZOFFSETTO:-0500
TZNAME:EST
DTSTART:20251102T060000
END:STANDARD
BEGIN:DAYLIGHT
TZOFFSETFROM:-0500
TZOFFSETTO:-0400
TZNAME:EDT
DTSTART:20260308T070000
END:DAYLIGHT
BEGIN:STANDARD
TZOFFSETFROM:-0400
TZOFFSETTO:-0500
TZNAME:EST
DTSTART:20261101T060000
END:STANDARD
BEGIN:DAYLIGHT
TZOFFSETFROM:-0500
TZOFFSETTO:-0400
TZNAME:EDT
DTSTART:20270314T070000
END:DAYLIGHT
BEGIN:STANDARD
TZOFFSETFROM:-0400
TZOFFSETTO:-0500
TZNAME:EST
DTSTART:20271107T060000
END:STANDARD
END:VTIMEZONE
BEGIN:VEVENT
DTSTART;TZID=America/Detroit:20260430T183000
DTEND;TZID=America/Detroit:20260430T193000
DTSTAMP:20260419T131052
CREATED:20260216T193300Z
LAST-MODIFIED:20260412T224558Z
UID:10007267-1777573800-1777577400@jewishdetroitcalendar.org
SUMMARY:Reexamining Revelation: Understanding the Ten Commandments
DESCRIPTION:We will explore together a surprising connection between two of the Bible’smost pivotal moments. \nWhat if one of the Torah’s most troubling stories – Jacob deceiving his fatherto get a blessing – is actually the key to understanding why God chose theJewish people? As we once again re-approach Sinai on our count-up to Shavuot\,are you ready to see the Torah in a whole new light? \nJoin Ritual Director Saul A. Rube for two Thursday nights: April 30 & May 7 at6:30 PM. \nLight snacks will be provided. \nThere is no fee\, but please register by Monday\, April 27th. \nOrganized by: Congregation Shaarey Zedek \nView event on Jlive: https://jlive.app/events/14791
URL:https://jewishdetroitcalendar.org/event/reexamining-revelation-understanding-the-ten-commandments/
LOCATION:Congregation Shaarey Zedek 27375 Bell Rd\, Southfield
CATEGORIES:Adults,Bible,Food,Spirituality
ATTACH;FMTTYPE=image/jpeg:https://jewishdetroitcalendar.org/wp-content/uploads/2026/02/Sauls_Spring_Class_JLIVE-Wwq9g9.jpg
ORGANIZER;CN="Congregation Shaarey Zedek":MAILTO:cszmarketing@shaareyzedek.org
END:VEVENT
BEGIN:VEVENT
DTSTART;TZID=America/Detroit:20260430T183000
DTEND;TZID=America/Detroit:20260430T203000
DTSTAMP:20260419T131052
CREATED:20260226T213320Z
LAST-MODIFIED:20260412T224558Z
UID:10007342-1777573800-1777581000@jewishdetroitcalendar.org
SUMMARY:Boards by Mongers: A Gen X Experience
DESCRIPTION:**Gen Xers are invited to Temple for a hands-on cheese and charcuterieexperience led by Zach  Berg\, owner of Mongers’ Provisions.** \nZach will guide us step-by-step in creating a beautifully balanced board\,sharing expert tips on selecting exceptional cheeses\, pairing them with theperfect accompaniments\, and arranging everything with style and intention. \nWhether you’re hosting friends\, planning a holiday gathering\, or simplylooking to elevate your entertaining skills\, you’ll leave with practicaltechniques\, pairing confidence\, and plenty of delicious inspiration. \nGuests will then create their own cheese and charcuterie board to take home.Each beautifully arranged board feeds two people and includes five cheeses andall the fixings. \nCost: Temple Members: $75; Non-members: $85 \n*** This event will take place in West Bloomfield. The address and anyadditional details will be shared directly with registered participants viaemail the week of the event.** \nGenX programming is geared toward ages 40-64. \nRegister here: [Boards by Mongers: A Gen X Experience – Event – TempleIsrael](https://www.temple-israel.org/event/mongers) \nQuestions? Contact Marni at [mmorrison@temple-israel.org](https://mailto:mmorrison@temple-israel.org/) or 248-661-5700. \nOrganized by: Temple Israel \nView event on Jlive: https://jlive.app/events/14973
URL:https://jewishdetroitcalendar.org/event/boards-by-mongers-a-gen-x-experience/
LOCATION:Temple Israel 5725 Walnut Lake Rd\, West Bloomfield
CATEGORIES:Adults,Food,General
ATTACH;FMTTYPE=image/jpeg:https://jewishdetroitcalendar.org/wp-content/uploads/2026/02/5466-Boards_by_Mongers_Gen_X_Jlive-bNIBdu.jpg
ORGANIZER;CN="Temple Israel":MAILTO:kheraud@temple-israel.org
END:VEVENT
BEGIN:VEVENT
DTSTART;TZID=America/Detroit:20260430T190000
DTEND;TZID=America/Detroit:20260430T210000
DTSTAMP:20260419T131052
CREATED:20260302T174456Z
LAST-MODIFIED:20260412T224558Z
UID:10007359-1777575600-1777582800@jewishdetroitcalendar.org
SUMMARY:The Road Between Us
DESCRIPTION:_The Road Between Us c_ hronicles retired Israeli General Noam Tibon’sharrowing journey to rescue his family from Hamas terrorists invading theirhome during the Oct. 7 massacre in an unforgettable story of heroism. Theaward-winning film explores themes of personal courage amidst chaos\, usingreal footage to present a deeply personal perspective. 95 minutes\, English. \nTickets: $12 advanced purchase. $15 at the door. \n**Sponsor:** JLearn; Jlive; Women of The J \nOrganized by: The J\, Lenore Marwil Detroit Jewish Film Festival \nView event on Jlive: https://jlive.app/events/14995
URL:https://jewishdetroitcalendar.org/event/the-road-between-us/
LOCATION:The Berman Center For The Performing Arts 6600 W Maple Rd\,
CATEGORIES:Adults,After October 7,English Speaking,Israel,Parking (free)
ATTACH;FMTTYPE=image/jpeg:https://jewishdetroitcalendar.org/wp-content/uploads/2026/03/26.FF_.JLiveCards-960x600-TheRoadBetweenUs-k6nPD6.jpg
ORGANIZER;CN="Lenore Marwil Detroit Jewish Film Festival":MAILTO:filmfestival@jccdet.org
END:VEVENT
END:VCALENDAR