BEGIN:VCALENDAR
VERSION:2.0
PRODID:-//Jewish Detroit Community Calendar - ECPv6.15.11//NONSGML v1.0//EN
CALSCALE:GREGORIAN
METHOD:PUBLISH
X-WR-CALNAME:Jewish Detroit Community Calendar
X-ORIGINAL-URL:https://jewishdetroitcalendar.org
X-WR-CALDESC:Events for Jewish Detroit Community Calendar
REFRESH-INTERVAL;VALUE=DURATION:PT1H
X-Robots-Tag:noindex
X-PUBLISHED-TTL:PT1H
BEGIN:VTIMEZONE
TZID:America/Detroit
BEGIN:DAYLIGHT
TZOFFSETFROM:-0500
TZOFFSETTO:-0400
TZNAME:EDT
DTSTART:20250309T070000
END:DAYLIGHT
BEGIN:STANDARD
TZOFFSETFROM:-0400
TZOFFSETTO:-0500
TZNAME:EST
DTSTART:20251102T060000
END:STANDARD
BEGIN:DAYLIGHT
TZOFFSETFROM:-0500
TZOFFSETTO:-0400
TZNAME:EDT
DTSTART:20260308T070000
END:DAYLIGHT
BEGIN:STANDARD
TZOFFSETFROM:-0400
TZOFFSETTO:-0500
TZNAME:EST
DTSTART:20261101T060000
END:STANDARD
BEGIN:DAYLIGHT
TZOFFSETFROM:-0500
TZOFFSETTO:-0400
TZNAME:EDT
DTSTART:20270314T070000
END:DAYLIGHT
BEGIN:STANDARD
TZOFFSETFROM:-0400
TZOFFSETTO:-0500
TZNAME:EST
DTSTART:20271107T060000
END:STANDARD
END:VTIMEZONE
BEGIN:VEVENT
DTSTART;TZID=America/Detroit:20260503T000000
DTEND;TZID=America/Detroit:20260624T000000
DTSTAMP:20260419T145359
CREATED:20260410T011618Z
LAST-MODIFIED:20260412T224729Z
UID:10008469-1777766400-1782259200@jewishdetroitcalendar.org
SUMMARY:Opening Reception: 6th Michigan Regional Glass Exhibition
DESCRIPTION:**6th Michigan Regional Glass Exhibition 2026** \n**Exhibit Dates:** May 3 – June 24\, 2026 \n**Opening Reception:** Sunday\, May 3\, 1 – 4 p.m. \nStep into a world where fire meets form in our 6th Michigan Regional GlassExhibit\, a captivating showcase of sculptural and functional glass works thatcelebrate the depth\, diversity\, and innovation of glass artists from acrossthe Michigan/Ohio region. Curated with **Michigan Hot Glass** and juried byrenowned artists **Ryan Thompson**  and **Andy Koupal** \, this showcasehighlights the rich tradition and evolving future of glassmaking. \n_Special Feature in the Upper Gallery:_**“Tchotchke”** — A tribute to AlbertYoung\, legendary artist and founder of Michigan Hot Glass. This showcasebrings to life an exhibit concept he envisioned before his passing. \nArtist Spotlight: (TBD) \n**Exhibit Sponsors** : \nDr. Judy Balan Pearl\, Prudence Bernstein Trust\, Esther Hankin\, Rebecca & FredHankin\, Helene & Arthur Indianer\, Manat Foundation\, Nancy & Sam Shamie \n**Program Sponsors:** \nJudy & Dr. John Marx\, Arlene & Jack Schultz \nFor more on exhibits and events\, visit[charachgallery.org](https://charachgallery.org/). \n**OPEN HOURS DURING EXHIBITS:** \n_Sunday\, Tuesday\, Wednesday – 10 am – 4 pm_ \n _Thursday – 11 am – 7 pm_ \n _*Visit the website or social media for up-to-date information & holidayclosures._ \nOrganized by: Janice Charach Gallery\, The J \nView event on Jlive: https://jlive.app/events/14608
URL:https://jewishdetroitcalendar.org/event/opening-reception-6th-michigan-regional-glass-exhibition-2/
LOCATION:Janice Charach Gallery\, The J 6600 W Maple Rd\,
CATEGORIES:Adults,Arts & Culture,Beverages (non alcoholic),Cocktails and Drinks,Coffee,Items for sale,Kosher,Older Adults,Parking (free),Teens,WiFi,Young Adults
ATTACH;FMTTYPE=image/jpeg:https://jewishdetroitcalendar.org/wp-content/uploads/2026/04/Glass_exhibit_-_HERO_IMAGE_jlive_copy-R00dzP.jpg
ORGANIZER;CN="Janice Charach Gallery":MAILTO:gallery@jccdet.org
END:VEVENT
BEGIN:VEVENT
DTSTART;TZID=America/Detroit:20260503T150000
DTEND;TZID=America/Detroit:20260503T160000
DTSTAMP:20260419T145359
CREATED:20260302T174457Z
LAST-MODIFIED:20260412T224558Z
UID:10007361-1777820400-1777824000@jewishdetroitcalendar.org
SUMMARY:TOVAH: 50 Years on Broadway - The Life of Tovah Feldshuh - Patrons/Sponsors Meet & Greet Reception.
DESCRIPTION:This star-studded documentary celebrates Tovah Feldshuh’s remarkable careeracross theatre\, film\, and TV\, while exploring her deep connection to Jewishidentity and enduring commitment to powerful female narratives. Throughexclusive interviews and archival material\, _TOVAH: 50 Years on Broadway – TheLife of Tovah Feldshuh_ presents a portrait of an artist whose influenceextends far beyond the stage\, shaping generations of performers and audiences.60 minutes\, English. \n**In-person talk-back/Q &A: **with Tovah Feldshuh and producer/director DavidSerero. \nBecome a Film Festival Patron today and attend this event for free as part ofyour Patron package\, including an exclusive Meet & Greet before the film:[2026 Detroit Jewish Film FestivalPATRONS](https://give.thejdetroit.org/2026-detroit-jewish-film-festival-patrons) \n**Silver Film Sponsors:** SAJE \n**Bronze Film Sponsors:** Jewish Senior Life \n**Festival Co-Sponsor:** The Dorothy and Peter Brown Jewish Adult Day Program \n**Sponsors:** The Berman; Janice Charach Gallery \nOrganized by: The J\, Lenore Marwil Detroit Jewish Film Festival \nView event on Jlive: https://jlive.app/events/14997
URL:https://jewishdetroitcalendar.org/event/tovah-50-years-on-broadway-the-life-of-tovah-feldshuh-patrons-sponsors-meet-greet-reception/
LOCATION:The Berman Center For The Performing Arts 6600 W Maple Rd\,
CATEGORIES:Adults,English Speaking,Music,Parking (free),Presentation,Special Guest,Women
ATTACH;FMTTYPE=image/jpeg:https://jewishdetroitcalendar.org/wp-content/uploads/2026/03/26.FF_.JLiveCards-960x600-Tovah-itrXDV.jpg
ORGANIZER;CN="Lenore Marwil Detroit Jewish Film Festival":MAILTO:filmfestival@jccdet.org
END:VEVENT
BEGIN:VEVENT
DTSTART;TZID=America/Detroit:20260503T160000
DTEND;TZID=America/Detroit:20260503T170000
DTSTAMP:20260419T145359
CREATED:20260302T174457Z
LAST-MODIFIED:20260412T224558Z
UID:10007360-1777824000-1777827600@jewishdetroitcalendar.org
SUMMARY:TOVAH: 50 Years on Broadway - The Life of Tovah Feldshuh - Film screening.
DESCRIPTION:This star-studded documentary celebrates Tovah Feldshuh’s remarkable careeracross theatre\, film\, and TV\, while exploring her deep connection to Jewishidentity and enduring commitment to powerful female narratives. Throughexclusive interviews and archival material\, _TOVAH: 50 Years on Broadway – TheLife of Tovah Feldshuh_ presents a portrait of an artist whose influenceextends far beyond the stage\, shaping generations of performers and audiences.60 minutes\, English. \n**In-person talk-back/Q &A: **with Tovah Feldshuh and producer/director DavidSerero. \nBecome a Film Festival Patron today and attend this event for free as part ofyour Patron package\, including an exclusive Meet & Greet before the film:[2026 Detroit Jewish Film FestivalPATRONS](https://give.thejdetroit.org/2026-detroit-jewish-film-festival-patrons) \n**Silver Film Sponsors:** SAJE \n**Bronze Film Sponsors:** Jewish Senior Life \n**Festival Co-Sponsor:** The Dorothy and Peter Brown Jewish Adult Day Program \n**Sponsors:** The Berman; Janice Charach Gallery \nOrganized by: The J\, Lenore Marwil Detroit Jewish Film Festival \nView event on Jlive: https://jlive.app/events/14997
URL:https://jewishdetroitcalendar.org/event/tovah-50-years-on-broadway-the-life-of-tovah-feldshuh-film-screening/
LOCATION:The Berman Center For The Performing Arts 6600 W Maple Rd\,
CATEGORIES:Adults,English Speaking,Music,Parking (free),Presentation,Special Guest,Women
ATTACH;FMTTYPE=image/jpeg:https://jewishdetroitcalendar.org/wp-content/uploads/2026/03/26.FF_.JLiveCards-960x600-Tovah-itrXDV.jpg
ORGANIZER;CN="Lenore Marwil Detroit Jewish Film Festival":MAILTO:filmfestival@jccdet.org
END:VEVENT
END:VCALENDAR