BEGIN:VCALENDAR
VERSION:2.0
PRODID:-//Jewish Detroit Community Calendar - ECPv6.15.11//NONSGML v1.0//EN
CALSCALE:GREGORIAN
METHOD:PUBLISH
X-WR-CALNAME:Jewish Detroit Community Calendar
X-ORIGINAL-URL:https://jewishdetroitcalendar.org
X-WR-CALDESC:Events for Jewish Detroit Community Calendar
REFRESH-INTERVAL;VALUE=DURATION:PT1H
X-Robots-Tag:noindex
X-PUBLISHED-TTL:PT1H
BEGIN:VTIMEZONE
TZID:America/Detroit
BEGIN:DAYLIGHT
TZOFFSETFROM:-0500
TZOFFSETTO:-0400
TZNAME:EDT
DTSTART:20250309T070000
END:DAYLIGHT
BEGIN:STANDARD
TZOFFSETFROM:-0400
TZOFFSETTO:-0500
TZNAME:EST
DTSTART:20251102T060000
END:STANDARD
BEGIN:DAYLIGHT
TZOFFSETFROM:-0500
TZOFFSETTO:-0400
TZNAME:EDT
DTSTART:20260308T070000
END:DAYLIGHT
BEGIN:STANDARD
TZOFFSETFROM:-0400
TZOFFSETTO:-0500
TZNAME:EST
DTSTART:20261101T060000
END:STANDARD
BEGIN:DAYLIGHT
TZOFFSETFROM:-0500
TZOFFSETTO:-0400
TZNAME:EDT
DTSTART:20270314T070000
END:DAYLIGHT
BEGIN:STANDARD
TZOFFSETFROM:-0400
TZOFFSETTO:-0500
TZNAME:EST
DTSTART:20271107T060000
END:STANDARD
END:VTIMEZONE
BEGIN:VEVENT
DTSTART;TZID=America/Detroit:20260503T000000
DTEND;TZID=America/Detroit:20260624T000000
DTSTAMP:20260419T162206
CREATED:20260410T011618Z
LAST-MODIFIED:20260412T224729Z
UID:10008469-1777766400-1782259200@jewishdetroitcalendar.org
SUMMARY:Opening Reception: 6th Michigan Regional Glass Exhibition
DESCRIPTION:**6th Michigan Regional Glass Exhibition 2026** \n**Exhibit Dates:** May 3 – June 24\, 2026 \n**Opening Reception:** Sunday\, May 3\, 1 – 4 p.m. \nStep into a world where fire meets form in our 6th Michigan Regional GlassExhibit\, a captivating showcase of sculptural and functional glass works thatcelebrate the depth\, diversity\, and innovation of glass artists from acrossthe Michigan/Ohio region. Curated with **Michigan Hot Glass** and juried byrenowned artists **Ryan Thompson**  and **Andy Koupal** \, this showcasehighlights the rich tradition and evolving future of glassmaking. \n_Special Feature in the Upper Gallery:_**“Tchotchke”** — A tribute to AlbertYoung\, legendary artist and founder of Michigan Hot Glass. This showcasebrings to life an exhibit concept he envisioned before his passing. \nArtist Spotlight: (TBD) \n**Exhibit Sponsors** : \nDr. Judy Balan Pearl\, Prudence Bernstein Trust\, Esther Hankin\, Rebecca & FredHankin\, Helene & Arthur Indianer\, Manat Foundation\, Nancy & Sam Shamie \n**Program Sponsors:** \nJudy & Dr. John Marx\, Arlene & Jack Schultz \nFor more on exhibits and events\, visit[charachgallery.org](https://charachgallery.org/). \n**OPEN HOURS DURING EXHIBITS:** \n_Sunday\, Tuesday\, Wednesday – 10 am – 4 pm_ \n _Thursday – 11 am – 7 pm_ \n _*Visit the website or social media for up-to-date information & holidayclosures._ \nOrganized by: Janice Charach Gallery\, The J \nView event on Jlive: https://jlive.app/events/14608
URL:https://jewishdetroitcalendar.org/event/opening-reception-6th-michigan-regional-glass-exhibition-2/
LOCATION:Janice Charach Gallery\, The J 6600 W Maple Rd\,
CATEGORIES:Adults,Arts & Culture,Beverages (non alcoholic),Cocktails and Drinks,Coffee,Items for sale,Kosher,Older Adults,Parking (free),Teens,WiFi,Young Adults
ATTACH;FMTTYPE=image/jpeg:https://jewishdetroitcalendar.org/wp-content/uploads/2026/04/Glass_exhibit_-_HERO_IMAGE_jlive_copy-R00dzP.jpg
ORGANIZER;CN="Janice Charach Gallery":MAILTO:gallery@jccdet.org
END:VEVENT
BEGIN:VEVENT
DTSTART;TZID=America/Detroit:20260607T090000
DTEND;TZID=America/Detroit:20260607T123000
DTSTAMP:20260419T162206
CREATED:20260112T171459Z
LAST-MODIFIED:20260412T224716Z
UID:10006956-1780822800-1780835400@jewishdetroitcalendar.org
SUMMARY:Gesher Residential Spring Clean-Up
DESCRIPTION:**MAKE A DIFFERENCE IN JUST ONE MORNING!** \nGesher Human Services is hosting its **1st Annual Spring Clean-Up  **at manyof our 16 residential homes serving individuals with mental health challenges.Whether you have a green thumb\, are looking for a meaningful family activity\,or want to organize a volunteer opportunity for your company\, we would love tohave you join us! \nPlant Flowers – Pull Weeds – Lay Mulch – and more! \nAll ages welcome. No experience needed. \n**Date:** Sunday\, June 7\, 2026 \n**Time:** 9:30 a.m. – Check-in and Orientation; 10 a.m. to 12:30 p.m. – Cleanup at residential homes (Additional details will be provided to registeredvolunteers prior to the event.) \nFor questions or more information\, please contact**  Mark Osborne\, **Volunteer& Engagement Coordinator\, at mosborne@geshermi.org or 248.233.4213. \nOrganized by: Gesher Human Services \nView event on Jlive: https://jlive.app/events/13702
URL:https://jewishdetroitcalendar.org/event/gesher-spring-clean-up/
LOCATION:23800 W 10 Mile Rd \, Southfield
CATEGORIES:Adults,College Students,Disability & Inclusion,Environment and Sustainability,Families,Food Provided,Health & Wellness,Mental Health,Older Adults,Outdoors,Parking (free),Social Justice,Teens,Volunteering,Young Adults
ATTACH;FMTTYPE=image/png:https://jewishdetroitcalendar.org/wp-content/uploads/2026/01/Graphic_SCU_960x600-mNHVmn.png
ORGANIZER;CN="Gesher Human Services":MAILTO:employmenthelp@geshermi.org
END:VEVENT
BEGIN:VEVENT
DTSTART;TZID=America/Detroit:20260607T140000
DTEND;TZID=America/Detroit:20260607T160000
DTSTAMP:20260419T162206
CREATED:20260410T011742Z
LAST-MODIFIED:20260412T224716Z
UID:10008483-1780840800-1780848000@jewishdetroitcalendar.org
SUMMARY:Artist Talk: 6th Michigan Regional Glass Exhibit
DESCRIPTION:**6th Michigan Regional Glass Exhibition 2026** \n**Exhibit Dates:  **May 3 – June 24\, 2026 \n**Opening Reception:  **Sunday\, May 3\, 1 – 4 p.m. \n**Hot Glass Demonstration by Herb Babcock:  **Sunday\, May 17\, 1:30 PM \n**Lecture by Alli Hoag:  **Sunday\, May 31\, 1 PM \n**Artist Talk:**  Sunday\, June 7\, 2 PM \nHear from our talented glass artists of the 6th Biannual Glass Exhibitionduring our artist talk. Get into the minds and the process behind the makersthemselves and hear their stories! \nRegistration required. \n_Special Feature in the Upper Gallery:_**“Tchotchke”** — A tribute to AlbertYoung\, legendary artist and founder of Michigan Hot Glass. This showcasebrings to life an exhibit concept he envisioned before his passing. \nArtist Spotlight: (TBD) \n**Exhibit Sponsors** : \nDr. Judy Balan Pearl\, Prudence Bernstein Trust\, Esther Hankin\, Rebecca & FredHankin\, Helene & Arthur Indianer\, Manat Foundation\, Nancy & Sam Shamie \n**Program Sponsors:** \nJudy & Dr. John Marx\, Arlene & Jack Schultz \nFor more on exhibits and events\, visit[charachgallery.org](https://charachgallery.org/). \n**OPEN HOURS DURING EXHIBITS:** \n_Sunday\, Tuesday\, Wednesday – 10 am – 4 pm_ \n _Thursday – 11 am – 7 pm_ \n _*Visit the website or social media for up-to-date information & holidayclosures._ \nOrganized by: Janice Charach Gallery\, The J \nView event on Jlive: https://jlive.app/events/14607
URL:https://jewishdetroitcalendar.org/event/artist-talk-6th-michigan-regional-glass-exhibit-2/
LOCATION:Janice Charach Gallery 6600 W Maple Rd\,
CATEGORIES:Adults,Arts & Culture,Items for sale,Kosher,Non Alc. Drinks For Purchase,Older Adults,Parking (free),Teens,WiFi,Young Adults
ATTACH;FMTTYPE=image/jpeg:https://jewishdetroitcalendar.org/wp-content/uploads/2026/04/artist_talk_glass_-_HERO_IMAGE_jlive_copy-p6gsDS.jpg
ORGANIZER;CN="Janice Charach Gallery":MAILTO:gallery@jccdet.org
END:VEVENT
END:VCALENDAR