BEGIN:VCALENDAR
VERSION:2.0
PRODID:-//Jewish Detroit Community Calendar - ECPv6.15.11//NONSGML v1.0//EN
CALSCALE:GREGORIAN
METHOD:PUBLISH
X-WR-CALNAME:Jewish Detroit Community Calendar
X-ORIGINAL-URL:https://jewishdetroitcalendar.org
X-WR-CALDESC:Events for Jewish Detroit Community Calendar
REFRESH-INTERVAL;VALUE=DURATION:PT1H
X-Robots-Tag:noindex
X-PUBLISHED-TTL:PT1H
BEGIN:VTIMEZONE
TZID:America/Detroit
BEGIN:DAYLIGHT
TZOFFSETFROM:-0500
TZOFFSETTO:-0400
TZNAME:EDT
DTSTART:20250309T070000
END:DAYLIGHT
BEGIN:STANDARD
TZOFFSETFROM:-0400
TZOFFSETTO:-0500
TZNAME:EST
DTSTART:20251102T060000
END:STANDARD
BEGIN:DAYLIGHT
TZOFFSETFROM:-0500
TZOFFSETTO:-0400
TZNAME:EDT
DTSTART:20260308T070000
END:DAYLIGHT
BEGIN:STANDARD
TZOFFSETFROM:-0400
TZOFFSETTO:-0500
TZNAME:EST
DTSTART:20261101T060000
END:STANDARD
BEGIN:DAYLIGHT
TZOFFSETFROM:-0500
TZOFFSETTO:-0400
TZNAME:EDT
DTSTART:20270314T070000
END:DAYLIGHT
BEGIN:STANDARD
TZOFFSETFROM:-0400
TZOFFSETTO:-0500
TZNAME:EST
DTSTART:20271107T060000
END:STANDARD
END:VTIMEZONE
BEGIN:VEVENT
DTSTART;TZID=America/Detroit:20260522T120000
DTEND;TZID=America/Detroit:20260522T150000
DTSTAMP:20260419T223043
CREATED:20260410T011715Z
LAST-MODIFIED:20260412T224650Z
UID:10008478-1779451200-1779462000@jewishdetroitcalendar.org
SUMMARY:Mix\, Match & Mahj!
DESCRIPTION:Mix\, Match & Mahj is a weekly Mahj program held **every** Friday from**12pm–3pm.** \nCome enjoy a relaxed\, social Mahj experience where players mix and match attables upon arrival—no need to come with a group. \n**To help us plan and ensure a smooth experience for everyone\, advanceregistration is required.** \nBring your Mahj set and get ready to mix\, match\, and play! \n*** These sessions will take place in West Bloomfield. The address and anyadditional details will be shared directly with registered participants viaemail the week of the event.** \n**Register here:** https://www.temple-israel.org/event/MixMatchMahj \nQuestions? Please email Marni at mmorrison@temple-israel.org \nOrganized by: Temple Israel \nView event on Jlive: https://jlive.app/events/15437
URL:https://jewishdetroitcalendar.org/event/mix-match-mahj-10/
LOCATION:West Bloomfield Township 5725 Walnut Lake Road\, West Bloomfield
CATEGORIES:Adults,General,Grandparents,Older Adults,Parents,Young Adults
ATTACH;FMTTYPE=image/jpeg:https://jewishdetroitcalendar.org/wp-content/uploads/2026/04/5440_-_PROG_Mix_Match__Mahj_JLIVE2-2iXuIa.jpg
ORGANIZER;CN="Temple Israel":MAILTO:kheraud@temple-israel.org
END:VEVENT
BEGIN:VEVENT
DTSTART;TZID=America/Detroit:20260529T120000
DTEND;TZID=America/Detroit:20260529T150000
DTSTAMP:20260419T223043
CREATED:20260410T011715Z
LAST-MODIFIED:20260412T224650Z
UID:10008479-1780056000-1780066800@jewishdetroitcalendar.org
SUMMARY:Mix\, Match & Mahj!
DESCRIPTION:Mix\, Match & Mahj is a weekly Mahj program held **every** Friday from**12pm–3pm.** \nCome enjoy a relaxed\, social Mahj experience where players mix and match attables upon arrival—no need to come with a group. \n**To help us plan and ensure a smooth experience for everyone\, advanceregistration is required.** \nBring your Mahj set and get ready to mix\, match\, and play! \n*** These sessions will take place in West Bloomfield. The address and anyadditional details will be shared directly with registered participants viaemail the week of the event.** \n**Register here:** https://www.temple-israel.org/event/MixMatchMahj \nQuestions? Please email Marni at mmorrison@temple-israel.org \nOrganized by: Temple Israel \nView event on Jlive: https://jlive.app/events/15437
URL:https://jewishdetroitcalendar.org/event/mix-match-mahj-11/
LOCATION:West Bloomfield Township 5725 Walnut Lake Road\, West Bloomfield
CATEGORIES:Adults,General,Grandparents,Older Adults,Parents,Young Adults
ATTACH;FMTTYPE=image/jpeg:https://jewishdetroitcalendar.org/wp-content/uploads/2026/04/5440_-_PROG_Mix_Match__Mahj_JLIVE2-2iXuIa.jpg
ORGANIZER;CN="Temple Israel":MAILTO:kheraud@temple-israel.org
END:VEVENT
BEGIN:VEVENT
DTSTART;TZID=America/Detroit:20260529T180000
DTEND;TZID=America/Detroit:20260529T210000
DTSTAMP:20260419T223043
CREATED:20260316T153244Z
LAST-MODIFIED:20260420T020131Z
UID:10007482-1780077600-1780088400@jewishdetroitcalendar.org
SUMMARY:L'chaim Club: Potluck Shabbat Dinner for Friends Age 55+
DESCRIPTION:Supported by the Downtown Synagogue and home-hosted by community members\,L’chaim Club is a new potluck Shabbat program for the 55+ crowd. We’ll gatherfor meaningful Shabbat ritual\, a delicious meal\, new (and rekindled!)connections\, and raise a glass together — l’chaim\, to life! Come as you areand leave nourished in body\, spirit\, and friendship. \nOur hosts\, Phil & Hilda Neuman\, will provide the main course and side dishes(vegetarian/dairy). Guests are encouraged to bring a **vegetarian** appetizeror dessert. Space is limited and registration is required. Registeredattendees will receive the address by email a few days before the dinner. \nWhile this program is supported by the Downtown Synagogue\, attendees do nothave to be members to participate. Our hope is that this program will continueevery-other month with changing hosts and attendees. Interested in hosting afuture dinner? Contact Marisa Mahoney at[mahoney@downtownsynagogue.org](https://mailto:mahoney@downtownsynagogue.org). \nOrganized by: Isaac Agree Downtown Synagogue \nView event on Jlive: https://jlive.app/events/14333
URL:https://jewishdetroitcalendar.org/event/lchaim-club-potluck-shabbat-dinner-for-friends-age-55-3/
LOCATION:Phil & Hilda Neuman’s Home \, Farmington Hills
CATEGORIES:Adults,Jewish Holiday,Older Adults,Shabbat
ATTACH;FMTTYPE=image/png:https://jewishdetroitcalendar.org/wp-content/uploads/2026/03/Shabbat_Group_Jlive_2-V1OkP8.png
ORGANIZER;CN="Isaac Agree Downtown Synagogue":MAILTO:hello@downtownsynagogue.org
END:VEVENT
BEGIN:VEVENT
DTSTART;TZID=America/Detroit:20260602T110000
DTEND;TZID=America/Detroit:20260602T120000
DTSTAMP:20260419T223043
CREATED:20260327T020228Z
LAST-MODIFIED:20260420T020146Z
UID:10007997-1780398000-1780401600@jewishdetroitcalendar.org
SUMMARY:Community Forum On Dementia - Coping with Challenging Situations in Dementia Care
DESCRIPTION:Please join us as Alejandro DeJesus from PAC (The Positive Approach to Care)presents on three topics related to caregiving for someone living withDementia. \nForum hosts: Gesher Human Services\, Jewish Hospice and Chaplaincy Network\,Jewish Senior Life\, The J\, Jewish Family Service and The Dorothy and PeterBrown Jewish Community Adult Day Program. \nOrganized by: Jewish Family Service of Metro Detroit\, Jewish Senior Life ofMetropolitan Detroit\, Gesher Human Services\, The J\, The Jewish Hospice andChaplaincy Network \nView event on Jlive: https://jlive.app/events/14469
URL:https://jewishdetroitcalendar.org/event/community-forum-on-dementia-coping-with-challenging-situations-in-dementia-care/
CATEGORIES:Adults,Aging,Arrival / Check In,Coffee,Educational,English Speaking,Kosher,Older Adults
ATTACH;FMTTYPE=image/png:https://jewishdetroitcalendar.org/wp-content/uploads/2026/02/Simple_Save_the_Date_Instagram_Post_960_x_600_px-lOr1kg.png
ORGANIZER;CN="Jewish Senior Life of Metropolitan Detroit":MAILTO:amartlock@jslmi.org
END:VEVENT
BEGIN:VEVENT
DTSTART;TZID=America/Detroit:20260602T140000
DTEND;TZID=America/Detroit:20260602T150000
DTSTAMP:20260419T223043
CREATED:20260327T020228Z
LAST-MODIFIED:20260420T020146Z
UID:10007998-1780408800-1780412400@jewishdetroitcalendar.org
SUMMARY:Community Forum On Dementia - Humor and Caregiving
DESCRIPTION:Please join us as Alejandro DeJesus from PAC (The Positive Approach to Care)presents on three topics related to caregiving for someone living withDementia. \nForum hosts: Gesher Human Services\, Jewish Hospice and Chaplaincy Network\,Jewish Senior Life\, The J\, Jewish Family Service and The Dorothy and PeterBrown Jewish Community Adult Day Program. \nOrganized by: Jewish Family Service of Metro Detroit\, Jewish Senior Life ofMetropolitan Detroit\, Gesher Human Services\, The J\, The Jewish Hospice andChaplaincy Network \nView event on Jlive: https://jlive.app/events/14469
URL:https://jewishdetroitcalendar.org/event/community-forum-on-dementia-humor-and-caregiving/
CATEGORIES:Adults,Aging,Arrival / Check In,Coffee,Educational,English Speaking,Kosher,Older Adults
ATTACH;FMTTYPE=image/png:https://jewishdetroitcalendar.org/wp-content/uploads/2026/02/Simple_Save_the_Date_Instagram_Post_960_x_600_px-lOr1kg.png
ORGANIZER;CN="Jewish Senior Life of Metropolitan Detroit":MAILTO:amartlock@jslmi.org
END:VEVENT
BEGIN:VEVENT
DTSTART;TZID=America/Detroit:20260602T183000
DTEND;TZID=America/Detroit:20260602T193000
DTSTAMP:20260419T223044
CREATED:20260327T020228Z
LAST-MODIFIED:20260420T020147Z
UID:10007999-1780425000-1780428600@jewishdetroitcalendar.org
SUMMARY:Community Forum On Dementia - Communication and Dementia
DESCRIPTION:Please join us as Alejandro DeJesus from PAC (The Positive Approach to Care)presents on three topics related to caregiving for someone living withDementia. \nForum hosts: Gesher Human Services\, Jewish Hospice and Chaplaincy Network\,Jewish Senior Life\, The J\, Jewish Family Service and The Dorothy and PeterBrown Jewish Community Adult Day Program. \nOrganized by: Jewish Family Service of Metro Detroit\, Jewish Senior Life ofMetropolitan Detroit\, Gesher Human Services\, The J\, The Jewish Hospice andChaplaincy Network \nView event on Jlive: https://jlive.app/events/14469
URL:https://jewishdetroitcalendar.org/event/community-forum-on-dementia-communication-and-dementia/
CATEGORIES:Adults,Aging,Arrival / Check In,Coffee,Educational,English Speaking,Kosher,Older Adults
ATTACH;FMTTYPE=image/png:https://jewishdetroitcalendar.org/wp-content/uploads/2026/02/Simple_Save_the_Date_Instagram_Post_960_x_600_px-lOr1kg.png
ORGANIZER;CN="Jewish Senior Life of Metropolitan Detroit":MAILTO:amartlock@jslmi.org
END:VEVENT
BEGIN:VEVENT
DTSTART;TZID=America/Detroit:20260603T190000
DTEND;TZID=America/Detroit:20260603T200000
DTSTAMP:20260419T223044
CREATED:20260410T011728Z
LAST-MODIFIED:20260420T020147Z
UID:10008481-1780513200-1780516800@jewishdetroitcalendar.org
SUMMARY:Tof Me’od Drum Circle\nwith Hazzan Gross
DESCRIPTION:Step into the joy of rhythm in a vibrant\, welcoming space where the focus issimple: have fun! A drum circle is not only about making music; it is aboutlaughing\, connecting\, and feeling the shared pulse that lifts everyone up.Rhythm naturally strengthens community\, eases stress\, sparks creativity\, andhelps each person discover their own inner voice. \n_No experience needed._ Just bring your enthusiasm\, an open heart\, and beready for a little ruach\, and a whole lot of joy! Drums provided. Space islimited \nOrganized by: Adat Shalom Synagogue \nView event on Jlive: https://jlive.app/events/15440
URL:https://jewishdetroitcalendar.org/event/tof-meod-drum-circlewith-hazzan-gross-4/
LOCATION:Adat Shalom Synagogue 29901 Middlebelt Rd\, Farmington Hills
CATEGORIES:Adults,Teens
ATTACH;FMTTYPE=image/png:https://jewishdetroitcalendar.org/wp-content/uploads/2026/02/Jlive__4-hrmG5H.png
ORGANIZER;CN="Adat Shalom Synagogue":MAILTO:info@adatshalom.org
END:VEVENT
BEGIN:VEVENT
DTSTART;TZID=America/Detroit:20260604T170000
DTEND;TZID=America/Detroit:20260604T210000
DTSTAMP:20260419T223044
CREATED:20260119T192957Z
LAST-MODIFIED:20260420T020147Z
UID:10006995-1780592400-1780606800@jewishdetroitcalendar.org
SUMMARY:Jewish Bar Annual Awards Ceremony
DESCRIPTION:
URL:https://jewishdetroitcalendar.org/event/jewish-bar-annual-awards-ceremony/
LOCATION:Knollwood Country Club 5050 W Maple Rd\, Royal Oak
CATEGORIES:Adults,Alc. Drinks For Purchase,Business,Coffee,Food Provided,General,Kosher,Non Alc. Drinks For Purchase,Valet parking (free),Vegetarian Friendly,Wheelchair Accessible
ATTACH;FMTTYPE=image/png:https://jewishdetroitcalendar.org/wp-content/uploads/2026/01/Annual_awards_ceremony-LGiwHW.png
ORGANIZER;CN="Jewish Bar Association of Michigan":MAILTO:j@zupaclaw.com
END:VEVENT
BEGIN:VEVENT
DTSTART;TZID=America/Detroit:20260607T090000
DTEND;TZID=America/Detroit:20260607T123000
DTSTAMP:20260419T223044
CREATED:20260112T171459Z
LAST-MODIFIED:20260420T020200Z
UID:10006956-1780822800-1780835400@jewishdetroitcalendar.org
SUMMARY:Gesher Residential Spring Clean-Up
DESCRIPTION:**MAKE A DIFFERENCE IN JUST ONE MORNING!** \nGesher Human Services is hosting its **1st Annual Spring Clean-Up  **at manyof our 16 residential homes serving individuals with mental health challenges.Whether you have a green thumb\, are looking for a meaningful family activity\,or want to organize a volunteer opportunity for your company\, we would love tohave you join us! \nPlant Flowers – Pull Weeds – Lay Mulch – and more! \nAll ages welcome. No experience needed. \n**Date:** Sunday\, June 7\, 2026 \n**Time:** 9:30 a.m. – Check-in and Orientation; 10 a.m. to 12:30 p.m. – Cleanup at residential homes (Additional details will be provided to registeredvolunteers prior to the event.) \nFor questions or more information\, please contact**  Mark Osborne\, **Volunteer& Engagement Coordinator\, at mosborne@geshermi.org or 248.233.4213. \nOrganized by: Gesher Human Services \nView event on Jlive: https://jlive.app/events/13702
URL:https://jewishdetroitcalendar.org/event/gesher-spring-clean-up/
LOCATION:23800 W 10 Mile Rd \, Southfield
CATEGORIES:Adults,College Students,Disability & Inclusion,Environment and Sustainability,Families,Food Provided,Health & Wellness,Mental Health,Older Adults,Outdoors,Parking (free),Social Justice,Teens,Volunteering,Young Adults
ATTACH;FMTTYPE=image/png:https://jewishdetroitcalendar.org/wp-content/uploads/2026/01/Graphic_SCU_960x600-mNHVmn.png
ORGANIZER;CN="Gesher Human Services":MAILTO:employmenthelp@geshermi.org
END:VEVENT
BEGIN:VEVENT
DTSTART;TZID=America/Detroit:20260607T140000
DTEND;TZID=America/Detroit:20260607T160000
DTSTAMP:20260419T223044
CREATED:20260410T011742Z
LAST-MODIFIED:20260420T020200Z
UID:10008483-1780840800-1780848000@jewishdetroitcalendar.org
SUMMARY:Artist Talk: 6th Michigan Regional Glass Exhibit
DESCRIPTION:**6th Michigan Regional Glass Exhibition 2026** \n**Exhibit Dates:  **May 3 – June 24\, 2026 \n**Opening Reception:  **Sunday\, May 3\, 1 – 4 p.m. \n**Hot Glass Demonstration by Herb Babcock:  **Sunday\, May 17\, 1:30 PM \n**Lecture by Alli Hoag:  **Sunday\, June 14\, 3:30 PM \n**Artist Talk:**  Sunday\, June 7\, 2 PM \nHear from our talented glass artists of the 6th Biannual Glass Exhibitionduring our artist talk. Get into the minds and the process behind the makersthemselves and hear their stories! \nRegistration required. \n_Special Feature in the Upper Gallery:_**“Tchotchke”** — A tribute to AlbertYoung\, legendary artist and founder of Michigan Hot Glass. This showcasebrings to life an exhibit concept he envisioned before his passing. \nArtist Spotlight: (TBD) \n**Exhibit Sponsors** : \nDr. Judy Balan Pearl\, Prudence Bernstein Trust\, Esther Hankin\, Rebecca & FredHankin\, Helene & Arthur Indianer\, Manat Foundation\, Nancy & Sam Shamie \n**Program Sponsors:** \nJudy & Dr. John Marx\, Arlene & Jack Schultz \nFor more on exhibits and events\, visit[charachgallery.org](https://charachgallery.org/). \n**OPEN HOURS DURING EXHIBITS:** \n_Sunday\, Tuesday\, Wednesday – 10 am – 4 pm_ \n _Thursday – 11 am – 7 pm_ \n _*Visit the website or social media for up-to-date information & holidayclosures._ \nOrganized by: Janice Charach Gallery\, The J \nView event on Jlive: https://jlive.app/events/14607
URL:https://jewishdetroitcalendar.org/event/artist-talk-6th-michigan-regional-glass-exhibit-2/
LOCATION:Janice Charach Gallery 6600 W Maple Rd\,
CATEGORIES:Adults,Arts & Culture,Items for sale,Kosher,Non Alc. Drinks For Purchase,Older Adults,Parking (free),Teens,WiFi,Young Adults
ATTACH;FMTTYPE=image/jpeg:https://jewishdetroitcalendar.org/wp-content/uploads/2026/04/artist_talk_glass_-_HERO_IMAGE_jlive_copy-p6gsDS.jpg
ORGANIZER;CN="Janice Charach Gallery":MAILTO:gallery@jccdet.org
END:VEVENT
BEGIN:VEVENT
DTSTART;TZID=America/Detroit:20260612T103000
DTEND;TZID=America/Detroit:20260612T123000
DTSTAMP:20260419T223044
CREATED:20260407T161507Z
LAST-MODIFIED:20260407T161507Z
UID:10008456-1781260200-1781267400@jewishdetroitcalendar.org
SUMMARY:Bessie Spector Oldest Jewish Americans Celebration
DESCRIPTION:Join us for our 25th annual brunch for community members who are or will be 95 or older by December 31\, 2026. \nWe are excited to welcome honorees\, friends and family to a festive brunch with entertainment by Adat Shalom’s beloved Hazzan Gross\, who will lead a Broadway sing-along. \nHonorees are invited free of charge with a guest. \nAdditional attendees are $45 per person. \nDietary Laws Observed
URL:https://jewishdetroitcalendar.org/event/bessie-spector-oldest-jewish-americans-celebration-2/
LOCATION:Adat Shalom\, 29001 Middlebelt Rd\, Farmington Hills\, Michigan\, 48334\, United States
CATEGORIES:Active Aging,Adults,Aging,All Ages,Entertainment,Family Events,Food Provided,Grandparents,Kosher Food,Older Adults,Senior,Valet parking (free),Vegetarian Friendly,Wheelchair Accessible
ATTACH;FMTTYPE=image/png:https://jewishdetroitcalendar.org/wp-content/uploads/2026/04/Bessie-Spector-Artwork-2026.png
ORGANIZER;CN="Jewish Senior Life":MAILTO:btryon@jslmi.org
GEO:42.5084189;-83.3395717
X-APPLE-STRUCTURED-LOCATION;VALUE=URI;X-ADDRESS=Adat Shalom 29001 Middlebelt Rd Farmington Hills Michigan 48334 United States;X-APPLE-RADIUS=500;X-TITLE=29001 Middlebelt Rd:geo:-83.3395717,42.5084189
END:VEVENT
BEGIN:VEVENT
DTSTART;TZID=America/Detroit:20260618T100000
DTEND;TZID=America/Detroit:20260618T113000
DTSTAMP:20260419T223044
CREATED:20260130T161457Z
LAST-MODIFIED:20260420T020200Z
UID:10007132-1781776800-1781782200@jewishdetroitcalendar.org
SUMMARY:Resume Writing Workshop
DESCRIPTION:Join Gesher Human Services for a free Resume Writing Workshop by CertifiedProfessional Resume Writers. Gain valuable tips and tools to write a dynamicresume. \nThere will be an opportunity to sign up for free 1-on-1 resume assistance atthe conclusion of the workshop. \nOrganized by: Gesher Human Services \nView event on Jlive: https://jlive.app/events/14472
URL:https://jewishdetroitcalendar.org/event/resume-writing-workshop-14/
LOCATION:29699 Southfield Rd 29699 Southfield Rd\, Southfield\, Southfield Road 29699\, Southfield\, Michigan\, 48076\, United States
CATEGORIES:Adults,Business,Career,College Students,General,Older Adults,Professional Development,Young Adults
ATTACH;FMTTYPE=image/png:https://jewishdetroitcalendar.org/wp-content/uploads/2025/08/Resume_Writing_Workshop_-_JLive_Graphic-60eA8V.png
ORGANIZER;CN="Gesher Human Services":MAILTO:employmenthelp@geshermi.org
GEO:42.5073756;-83.2239594
X-APPLE-STRUCTURED-LOCATION;VALUE=URI;X-ADDRESS=29699 Southfield Rd 29699 Southfield Rd Southfield Southfield Road 29699 Southfield Michigan 48076 United States;X-APPLE-RADIUS=500;X-TITLE=Southfield Road 29699:geo:-83.2239594,42.5073756
END:VEVENT
BEGIN:VEVENT
DTSTART;TZID=America/Detroit:20260721T190000
DTEND;TZID=America/Detroit:20260721T210000
DTSTAMP:20260419T223044
CREATED:20260306T193414Z
LAST-MODIFIED:20260420T020213Z
UID:10007453-1784660400-1784667600@jewishdetroitcalendar.org
SUMMARY:Summer Shorts: Three Great Documentaries with Michigan Connections!
DESCRIPTION:**SAVE THE DATE!** Join us for three great documentaries with Michiganconnections: \n**_Only  Twice A Year _**About the Beth Olem cemetery\, inside the GM Poletownplant in Hamtramck. \n(Documentary; English; 35 minutes) \n** ** \n**_Sapiro  v. Ford: The Jew Who Sued Henry Ford_** \nJewish lawyer\, Aaron Sapiro takes on automobile magnate Henry Ford\,challenging Ford’s antisemitic attacks with an unprecedented libel suit in aDetroit federal court that riveted the nation. \n(Documentary; English; 69 minutes) \n** ** \n**_Mark  Schwartz: Luthier\, Mentor\, Champion of the Arts!_** \nProfiles Flint resident Mark Schwartz\, who has devoted his life to the localarts community for fifty years – one instrument\, one student\, one repair at atime. (Documentary; English; 10 minutes) \n**Silver Film Sponsor:** SAJE \n**Bronze Film Sponsor:** ADL Michigan; Temple Israel Brotherhood \nOrganized by: Lenore Marwil Detroit Jewish Film Festival \nView event on Jlive: https://jlive.app/events/15093
URL:https://jewishdetroitcalendar.org/event/michigan-summer-shorts-three-great-documentaries/
LOCATION:The Berman Center For The Performing Arts 6600 W Maple Rd\,
CATEGORIES:Adults,Parking (free)
ATTACH;FMTTYPE=image/jpeg:https://jewishdetroitcalendar.org/wp-content/uploads/2026/03/26.FF_.JLiveCards-960x600-SummerShorts-LkqydD.jpg
ORGANIZER;CN="Lenore Marwil Detroit Jewish Film Festival":MAILTO:filmfestival@jccdet.org
END:VEVENT
BEGIN:VEVENT
DTSTART;TZID=America/Detroit:20260727T093000
DTEND;TZID=America/Detroit:20260727T130000
DTSTAMP:20260419T223044
CREATED:20260410T011757Z
LAST-MODIFIED:20260412T224729Z
UID:10008485-1785144600-1785157200@jewishdetroitcalendar.org
SUMMARY:safeTALK
DESCRIPTION:**LIMITED SPOTS AVAILABLE!** \n**Become a safeTALK-trained helper and reduce the number of suicides in ourcommunity.** \nMost people with thoughts of suicide don’t truly want to die but arestruggling with pain in their lives. Through their words and actions\, theyinvite help to stay alive. Those trained in safeTALK can recognize theseinvitations and take action by connecting them with life-saving interventionresources. \n  * **Free safeTALK training open to anyone over the age of 15.**  * **No prior experience is necessary.**  * **3 Social Work CEU’s are available for this training at no cost.** Please be sure to provide your license number in the requested field to be eligible to receive these. \n**You’ll learn to:** \n  * Notice and respond to situations where suicide thoughts might be present  * Move beyond the common tendency to miss\, dismiss\, and avoid suicide  * Apply the TALK steps: Tell\, Ask\, Listen\, and Keep Safe \nOrganized by: Jewish Family Service of Metro Detroit \nView event on Jlive: https://jlive.app/events/15427
URL:https://jewishdetroitcalendar.org/event/safetalk-4/
LOCATION:Jewish Family Service 6555 W Maple Rd\, West Bloomfield Township
CATEGORIES:Adults,College Students,Educational,Grandparents,Mental Health,Older Adults,Parents,Parking (free),Teens,Young Adults
ATTACH;FMTTYPE=image/jpeg:https://jewishdetroitcalendar.org/wp-content/uploads/2025/03/safeTalk_Jlive_header_2025-ddt87S.tmp_-scaled.jpg
ORGANIZER;CN="Jewish Family Service of Metro Detroit":MAILTO:lleder@jfsdetroit.org
END:VEVENT
BEGIN:VEVENT
DTSTART;TZID=America/Detroit:20261104T083000
DTEND;TZID=America/Detroit:20261104T163000
DTSTAMP:20260419T223044
CREATED:20260223T181930Z
LAST-MODIFIED:20260420T020213Z
UID:10007322-1793781000-1793809800@jewishdetroitcalendar.org
SUMMARY:ASIST Training: Applied Suicide Intervention Skills Training - ASIST is a two-day workshop you will need to be present for both full days.
DESCRIPTION:**Applied Suicide Intervention Skills Training (ASIST)** is a two-dayinteractive workshop that teaches how to recognize when someone may be at riskof suicide and how to work with them to keep them safe. Open to ages 16+. \n**You’ll learn to:** \n• Understand how personal and societal attitudes affect views on suicide andinterventions \n• Provide guidance to a person at risk in ways that meet their safety needs \n• Identify key elements of an effective safety plan as well as how toimplement it \n**12 Social Work CEU’s are available for this training at no cost.** Please besure to provide your license number in the requested field to be eligible toreceive these. \nOrganized by: Jewish Family Service of Metro Detroit \nView event on Jlive: https://jlive.app/events/14921
URL:https://jewishdetroitcalendar.org/event/asist-training-applied-suicide-intervention-skills-training-asist-is-a-two-day-workshop-you-will-need-to-be-present-for-both-full-days/
LOCATION:Jewish Family Service 6555 W Maple Rd\, West Bloomfield Township
CATEGORIES:Adults,College Students,Educational,Grandparents,Mental Health,Older Adults,Parents,Parking (free),Young Adults
ATTACH;FMTTYPE=image/jpeg:https://jewishdetroitcalendar.org/wp-content/uploads/2025/03/ASIST_Jlive_header_20252-9yFFMM.tmp_-scaled.jpg
ORGANIZER;CN="Jewish Family Service of Metro Detroit":MAILTO:lleder@jfsdetroit.org
END:VEVENT
BEGIN:VEVENT
DTSTART;TZID=America/Detroit:20261105T083000
DTEND;TZID=America/Detroit:20261105T163000
DTSTAMP:20260419T223044
CREATED:20260223T181930Z
LAST-MODIFIED:20260420T020213Z
UID:10007323-1793867400-1793896200@jewishdetroitcalendar.org
SUMMARY:ASIST Training: Applied Suicide Intervention Skills Training
DESCRIPTION:**Applied Suicide Intervention Skills Training (ASIST)** is a two-dayinteractive workshop that teaches how to recognize when someone may be at riskof suicide and how to work with them to keep them safe. Open to ages 16+. \n**You’ll learn to:** \n• Understand how personal and societal attitudes affect views on suicide andinterventions \n• Provide guidance to a person at risk in ways that meet their safety needs \n• Identify key elements of an effective safety plan as well as how toimplement it \n**12 Social Work CEU’s are available for this training at no cost.** Please besure to provide your license number in the requested field to be eligible toreceive these. \nOrganized by: Jewish Family Service of Metro Detroit \nView event on Jlive: https://jlive.app/events/14921
URL:https://jewishdetroitcalendar.org/event/asist-training-applied-suicide-intervention-skills-training-9/
LOCATION:Jewish Family Service 6555 W Maple Rd\, West Bloomfield Township
CATEGORIES:Adults,College Students,Educational,Grandparents,Mental Health,Older Adults,Parents,Parking (free),Young Adults
ATTACH;FMTTYPE=image/jpeg:https://jewishdetroitcalendar.org/wp-content/uploads/2025/03/ASIST_Jlive_header_20252-9yFFMM.tmp_-scaled.jpg
ORGANIZER;CN="Jewish Family Service of Metro Detroit":MAILTO:lleder@jfsdetroit.org
END:VEVENT
BEGIN:VEVENT
DTSTART;TZID=America/Detroit:20261122T140000
DTEND;TZID=America/Detroit:20261122T170000
DTSTAMP:20260419T223044
CREATED:20260407T161507Z
LAST-MODIFIED:20260407T161507Z
UID:10008455-1795356000-1795366800@jewishdetroitcalendar.org
SUMMARY:Bingopalooza
DESCRIPTION:Not your bubbie’s Bingo! Fun\, snacks\, prizes\, entertainment – all to support our older adults.
URL:https://jewishdetroitcalendar.org/event/bingopalooza/
LOCATION:Virtual
CATEGORIES:Adults,All Ages,English Speaking,Entertainment,Kosher,Older Adults,Philanthropy,Valet parking (free)
END:VEVENT
END:VCALENDAR