BEGIN:VCALENDAR
VERSION:2.0
PRODID:-//Jewish Detroit Community Calendar - ECPv6.15.11//NONSGML v1.0//EN
CALSCALE:GREGORIAN
METHOD:PUBLISH
X-ORIGINAL-URL:https://jewishdetroitcalendar.org
X-WR-CALDESC:Events for Jewish Detroit Community Calendar
REFRESH-INTERVAL;VALUE=DURATION:PT1H
X-Robots-Tag:noindex
X-PUBLISHED-TTL:PT1H
BEGIN:VTIMEZONE
TZID:America/Detroit
BEGIN:DAYLIGHT
TZOFFSETFROM:-0500
TZOFFSETTO:-0400
TZNAME:EDT
DTSTART:20250309T070000
END:DAYLIGHT
BEGIN:STANDARD
TZOFFSETFROM:-0400
TZOFFSETTO:-0500
TZNAME:EST
DTSTART:20251102T060000
END:STANDARD
BEGIN:DAYLIGHT
TZOFFSETFROM:-0500
TZOFFSETTO:-0400
TZNAME:EDT
DTSTART:20260308T070000
END:DAYLIGHT
BEGIN:STANDARD
TZOFFSETFROM:-0400
TZOFFSETTO:-0500
TZNAME:EST
DTSTART:20261101T060000
END:STANDARD
BEGIN:DAYLIGHT
TZOFFSETFROM:-0500
TZOFFSETTO:-0400
TZNAME:EDT
DTSTART:20270314T070000
END:DAYLIGHT
BEGIN:STANDARD
TZOFFSETFROM:-0400
TZOFFSETTO:-0500
TZNAME:EST
DTSTART:20271107T060000
END:STANDARD
END:VTIMEZONE
BEGIN:VEVENT
DTSTART;TZID=America/Detroit:20260604T170000
DTEND;TZID=America/Detroit:20260604T210000
DTSTAMP:20260422T034357
CREATED:20260119T192957Z
LAST-MODIFIED:20260422T070130Z
UID:10006995-1780592400-1780606800@jewishdetroitcalendar.org
SUMMARY:Jewish Bar Annual Awards Ceremony
DESCRIPTION:
URL:https://jewishdetroitcalendar.org/event/jewish-bar-annual-awards-ceremony/
LOCATION:Knollwood Country Club 5050 W Maple Rd\, Royal Oak
CATEGORIES:Adults,Alc. Drinks For Purchase,Business,Coffee,Food Provided,General,Kosher,Non Alc. Drinks For Purchase,Valet parking (free),Vegetarian Friendly,Wheelchair Accessible
ATTACH;FMTTYPE=image/png:https://jewishdetroitcalendar.org/wp-content/uploads/2026/01/Annual_awards_ceremony-LGiwHW.png
ORGANIZER;CN="Jewish Bar Association of Michigan":MAILTO:j@zupaclaw.com
END:VEVENT
BEGIN:VEVENT
DTSTART;TZID=America/Detroit:20260618T100000
DTEND;TZID=America/Detroit:20260618T113000
DTSTAMP:20260422T034357
CREATED:20260130T161457Z
LAST-MODIFIED:20260422T070144Z
UID:10007132-1781776800-1781782200@jewishdetroitcalendar.org
SUMMARY:Resume Writing Workshop
DESCRIPTION:Join Gesher Human Services for a free Resume Writing Workshop by CertifiedProfessional Resume Writers. Gain valuable tips and tools to write a dynamicresume. \nThere will be an opportunity to sign up for free 1-on-1 resume assistance atthe conclusion of the workshop. \nOrganized by: Gesher Human Services \nView event on Jlive: https://jlive.app/events/14472
URL:https://jewishdetroitcalendar.org/event/resume-writing-workshop-14/
LOCATION:29699 Southfield Rd 29699 Southfield Rd\, Southfield\, Southfield Road 29699\, Southfield\, Michigan\, 48076\, United States
CATEGORIES:Adults,Business,Career,College Students,General,Older Adults,Professional Development,Young Adults
ATTACH;FMTTYPE=image/png:https://jewishdetroitcalendar.org/wp-content/uploads/2025/08/Resume_Writing_Workshop_-_JLive_Graphic-60eA8V.png
ORGANIZER;CN="Gesher Human Services":MAILTO:employmenthelp@geshermi.org
GEO:42.5073756;-83.2239594
X-APPLE-STRUCTURED-LOCATION;VALUE=URI;X-ADDRESS=29699 Southfield Rd 29699 Southfield Rd Southfield Southfield Road 29699 Southfield Michigan 48076 United States;X-APPLE-RADIUS=500;X-TITLE=Southfield Road 29699:geo:-83.2239594,42.5073756
END:VEVENT
END:VCALENDAR