BEGIN:VCALENDAR
VERSION:2.0
PRODID:-//Jewish Detroit Community Calendar - ECPv6.15.11//NONSGML v1.0//EN
CALSCALE:GREGORIAN
METHOD:PUBLISH
X-ORIGINAL-URL:https://jewishdetroitcalendar.org
X-WR-CALDESC:Events for Jewish Detroit Community Calendar
REFRESH-INTERVAL;VALUE=DURATION:PT1H
X-Robots-Tag:noindex
X-PUBLISHED-TTL:PT1H
BEGIN:VTIMEZONE
TZID:America/Detroit
BEGIN:DAYLIGHT
TZOFFSETFROM:-0500
TZOFFSETTO:-0400
TZNAME:EDT
DTSTART:20250309T070000
END:DAYLIGHT
BEGIN:STANDARD
TZOFFSETFROM:-0400
TZOFFSETTO:-0500
TZNAME:EST
DTSTART:20251102T060000
END:STANDARD
BEGIN:DAYLIGHT
TZOFFSETFROM:-0500
TZOFFSETTO:-0400
TZNAME:EDT
DTSTART:20260308T070000
END:DAYLIGHT
BEGIN:STANDARD
TZOFFSETFROM:-0400
TZOFFSETTO:-0500
TZNAME:EST
DTSTART:20261101T060000
END:STANDARD
BEGIN:DAYLIGHT
TZOFFSETFROM:-0500
TZOFFSETTO:-0400
TZNAME:EDT
DTSTART:20270314T070000
END:DAYLIGHT
BEGIN:STANDARD
TZOFFSETFROM:-0400
TZOFFSETTO:-0500
TZNAME:EST
DTSTART:20271107T060000
END:STANDARD
END:VTIMEZONE
BEGIN:VEVENT
DTSTART;TZID=America/Detroit:20260506T183000
DTEND;TZID=America/Detroit:20260506T213000
DTSTAMP:20260421T075839
CREATED:20260212T164309Z
LAST-MODIFIED:20260305T162656Z
UID:10007194-1778092200-1778103000@jewishdetroitcalendar.org
SUMMARY:2026 ORT and the City
DESCRIPTION:The 2026 ORT and the City fundraiser consists of dinner served via a variety of specialty food trucks\, cocktails\, whiskey tasting\, and an art auction featuring original works created by Detroit and Detroit-connected artists\, individually selected and sponsored by local art collectors. Each artist was asked to create a piece reflecting this year’s theme “Frame of Mind”. The art will be on display at the event; however\, the auction will be held online\, and you do not need to be at the event to bid and win. There is no fee to access the art auction online.
URL:https://jewishdetroitcalendar.org/event/2026-ort-and-the-city/
LOCATION:Unnamed Venue\,  4000 Clubgate Dr\,\,  Bloomfield Hills\, MI\, 48302\, United States
CATEGORIES:Art & Culture,Fundraising
ATTACH;FMTTYPE=image/jpeg:https://jewishdetroitcalendar.org/wp-content/uploads/2026/02/OTC-Logo-Horiz_black.jpg
ORGANIZER;CN="ORT America - Michigan Region":MAILTO:michigan@ortamerica.org
GEO:42.579692;-83.3162639
X-APPLE-STRUCTURED-LOCATION;VALUE=URI;X-ADDRESS=Unnamed Venue  4000 Clubgate Dr  Bloomfield Hills MI 48302 United States;X-APPLE-RADIUS=500;X-TITLE=4000 Clubgate Dr\,:geo:-83.3162639,42.579692
END:VEVENT
BEGIN:VEVENT
DTSTART;TZID=America/Detroit:20260507T093000
DTEND;TZID=America/Detroit:20260507T150000
DTSTAMP:20260421T075839
CREATED:20250522T161101Z
LAST-MODIFIED:20250522T161103Z
UID:10005057-1778146200-1778166000@jewishdetroitcalendar.org
SUMMARY:Women's Day at Adat Shalom
DESCRIPTION:Boutique shopping\, speaker\, and lunch
URL:https://jewishdetroitcalendar.org/event/womens-day-at-adat-shalom-2/
LOCATION:MI
CATEGORIES:Adults,Entertainment,Fundraising,Items for sale,Kosher Food
ORGANIZER;CN="Adat Shalom Sisterhood":MAILTO:sandimatz@gmail.com
END:VEVENT
BEGIN:VEVENT
DTSTART;TZID=America/Detroit:20260512T180000
DTEND;TZID=America/Detroit:20260512T210000
DTSTAMP:20260421T075839
CREATED:20251103T210002Z
LAST-MODIFIED:20251103T210005Z
UID:10006469-1778608800-1778619600@jewishdetroitcalendar.org
SUMMARY:SK2T 2026
DESCRIPTION:Annual Fundraiser
URL:https://jewishdetroitcalendar.org/event/sk2t-2026-2/
LOCATION:TBD\, TBD\, TBD\, MI\, tbd\, United States
CATEGORIES:Fundraising
ORGANIZER;CN="Tamarack Camps":MAILTO:tamarack@tamarackcamps.com
GEO:42.8919495;-85.5528303
X-APPLE-STRUCTURED-LOCATION;VALUE=URI;X-ADDRESS=TBD TBD TBD MI tbd United States;X-APPLE-RADIUS=500;X-TITLE=TBD:geo:-85.5528303,42.8919495
END:VEVENT
BEGIN:VEVENT
DTSTART;TZID=America/Detroit:20260517T170000
DTEND;TZID=America/Detroit:20260517T210000
DTSTAMP:20260421T075839
CREATED:20250916T180002Z
LAST-MODIFIED:20250916T192422Z
UID:10006232-1779037200-1779051600@jewishdetroitcalendar.org
SUMMARY:Hillel Day School Annual Gala
DESCRIPTION:Hillel’s most important fundraiser takes place on Hillel’s beautiful campus. At this annual event\, we honor our Dream Maker and Rabbi Jacob E. Segal Award Recipients and present our Distinguished Alumni Award.\n\nMore information coming soon!
URL:https://jewishdetroitcalendar.org/event/annual-gala/
LOCATION:32200 Middlebelt Rd 32200 Middlebelt Rd\, Farmington Hills
CATEGORIES:Day School,Education,Fundraising
ATTACH;FMTTYPE=image/jpeg:https://jewishdetroitcalendar.org/wp-content/uploads/2025/09/Hillel-Logo-Vertical-Full-274-Scale-scaled.jpg
ORGANIZER;CN="Hillel Day School of Metro Detroit":MAILTO:aendelman@hillelday.org
END:VEVENT
BEGIN:VEVENT
DTSTART;TZID=America/Detroit:20260520T180000
DTEND;TZID=America/Detroit:20260520T203000
DTSTAMP:20260421T075839
CREATED:20260311T181653Z
LAST-MODIFIED:20260320T192150Z
UID:10007460-1779300000-1779309000@jewishdetroitcalendar.org
SUMMARY:JFS Spotlight Event featuring comedian MODI
DESCRIPTION:Are you ready for Moshiach Energy?\n\nIt’s the term comedian Modi Rosenfeld (known simply as Modi) coined to describe the energy he feels in a room full of people from all different backgrounds and walks of life united in laughter.\n\nA staple of New York’s vibrant comedy scene and featured on HBO\, Comedy Central\, and E! Entertainment. Modi will be creating that energy at Jewish Family Service’s Spotlight event\, “An Evening of Laughter and Legacy\,” on Wednesday\, May 20 at 7pm at Adat Shalom Synagogue in Farmington Hills\n\nComedy and storytelling have long played a vital role in Jewish culture\, offering moments of levity in challenging times\, such as these. Modi has been voted one of the top 10 comedians in New York City by The Hollywood Reporter\, and his gift of balancing humor with heart in order to bring relief and connection is something you won’t want to miss.\n\nWhile Modi will be bringing the laughter\, Sandy Muskovitz Danto will be bringing the legacy as she is honored for her exceptional leadership and dedication to JFS\, the Detroit Jewish community\, Israel\, and beyond. Her passion\, compassion\, warmth\, and wisdom have impacted so many and created meaningful change that continues to inspire us all.\n\nProceeds from JFS’s Spotlight event will go toward meeting the greatest needs in the community and provide services to the fifteen thousand community members JFS helps each year in the areas of older adult services\, mental health and wellness\, and basic needs assistance. Your generosity is what has made JFS the heart of a stronger community for close to 100 years.\n\nCome join what promises to be a special evening. Doors open at 6pm. Tickets are $125. For tickets and sponsorship opportunities\, visit jfsspotlightevent.org
URL:https://jewishdetroitcalendar.org/event/jfs-spotlight-event-featuring-comedian-modi/
LOCATION:Adat Shalom\, 29001 Middlebelt Rd\, Farmington Hills\, Michigan\, 48334\, United States
CATEGORIES:Arts & Culture,Entertainment,Fundraising,Non-denominational
ATTACH;FMTTYPE=image/jpeg:https://jewishdetroitcalendar.org/wp-content/uploads/2026/03/Spotlight-Flyer-2026-FINAL-Updated-3.18-scaled.jpg
ORGANIZER;CN="Jewish Family Service":MAILTO:lleder@jfsdetroit.org
GEO:42.5084189;-83.3395717
X-APPLE-STRUCTURED-LOCATION;VALUE=URI;X-ADDRESS=Adat Shalom 29001 Middlebelt Rd Farmington Hills Michigan 48334 United States;X-APPLE-RADIUS=500;X-TITLE=29001 Middlebelt Rd:geo:-83.3395717,42.5084189
END:VEVENT
BEGIN:VEVENT
DTSTART;TZID=America/Detroit:20260609T190000
DTEND;TZID=America/Detroit:20260609T210000
DTSTAMP:20260421T075839
CREATED:20260312T174635Z
LAST-MODIFIED:20260312T174635Z
UID:10007478-1781031600-1781038800@jewishdetroitcalendar.org
SUMMARY:NCJW|MI Spring Play Fundraiser
DESCRIPTION:“Love\, Loss and what I wore”. A play by Nora & Delia Ephron.
URL:https://jewishdetroitcalendar.org/event/ncjwmi-spring-play-fundraiser/
LOCATION:Temple Shir Shalom\, 3999 Walnut Lake Road\, West Bloomfield\, MI\, 48323\, united States
CATEGORIES:Entertainment,Fundraising
ORGANIZER;CN="NCJW|MI":MAILTO:mail@ncjwmi.org
GEO:42.5568715;-83.359804
X-APPLE-STRUCTURED-LOCATION;VALUE=URI;X-ADDRESS=Temple Shir Shalom 3999 Walnut Lake Road West Bloomfield MI 48323 united States;X-APPLE-RADIUS=500;X-TITLE=3999 Walnut Lake Road:geo:-83.359804,42.5568715
END:VEVENT
BEGIN:VEVENT
DTSTART;TZID=America/Detroit:20260629T080000
DTEND;TZID=America/Detroit:20260629T170000
DTSTAMP:20260421T075839
CREATED:20250703T153939Z
LAST-MODIFIED:20250703T153939Z
UID:10005194-1782720000-1782752400@jewishdetroitcalendar.org
SUMMARY:Ryan Rosman Memorial MSU Hillel Golf Outing and Dinner
DESCRIPTION:The Ryan Scott Rosman Memorial MSU Hillel Golf Outing and Dinner celebrates Ryan’s passions for golf\, entrepreneurship and Jewish community. Proceeds support the Ryan Rosman Leadership Fund at MSU Hillel impacting thousands of Jewish students at MSU and on Hillel Campus Alliance of Michigan campuses. \nJoin us for a fun day of golf and dinner in support of Jewish life on campus.
URL:https://jewishdetroitcalendar.org/event/ryan-rosman-memorial-msu-hillel-golf-outing-and-dinner-2/
LOCATION:Tam O’Shanter Country Club\, 5051 Orchard Lake Raod\, West Bloomfield\, MI\, 48325\, united States
CATEGORIES:Campus & Hillel,Fundraising
ATTACH;FMTTYPE=image/jpeg:https://jewishdetroitcalendar.org/wp-content/uploads/2025/07/NewGreenRosmanCrest_NoAnnual.jpg
ORGANIZER;CN="Jonathon Koenigsberg":MAILTO:jonathon@msuhillel.org
GEO:42.5657678;-83.3617696
X-APPLE-STRUCTURED-LOCATION;VALUE=URI;X-ADDRESS=Tam O’Shanter Country Club 5051 Orchard Lake Raod West Bloomfield MI 48325 united States;X-APPLE-RADIUS=500;X-TITLE=5051 Orchard Lake Raod:geo:-83.3617696,42.5657678
END:VEVENT
BEGIN:VEVENT
DTSTART;TZID=America/Detroit:20260930T190000
DTEND;TZID=America/Detroit:20260930T210000
DTSTAMP:20260421T075839
CREATED:20260128T164548Z
LAST-MODIFIED:20260128T170118Z
UID:10007094-1790794800-1790802000@jewishdetroitcalendar.org
SUMMARY:Women’s Philanthropy Lion of Judah Event (hold)
DESCRIPTION:Major donor event for Federation’s annual campaign
URL:https://jewishdetroitcalendar.org/event/wp-lion-of-judah-event/
LOCATION:Knollwood Country Club 5050 W Maple Rd\, West Bloomfield Township
CATEGORIES:Fundraising
END:VEVENT
BEGIN:VEVENT
DTSTART;TZID=America/Detroit:20261001T190000
DTEND;TZID=America/Detroit:20261001T210000
DTSTAMP:20260421T075839
CREATED:20260128T164851Z
LAST-MODIFIED:20260128T165617Z
UID:10007096-1790881200-1790888400@jewishdetroitcalendar.org
SUMMARY:Women’s Philanthropy Lion of Judah Event (hold)
DESCRIPTION:Major donor event for Federation’s annual campaign
URL:https://jewishdetroitcalendar.org/event/womens-philanthropy-lion-of-judah-event/
LOCATION:Knollwood Country Club 5050 W Maple Rd\, West Bloomfield Township
CATEGORIES:Fundraising
ORGANIZER;CN="Women's Philanthropy of the Jewish Federation":MAILTO:awayne@jewishdetroit.org
END:VEVENT
BEGIN:VEVENT
DTSTART;TZID=America/Detroit:20261008T093000
DTEND;TZID=America/Detroit:20261008T153000
DTSTAMP:20260421T075839
CREATED:20241030T130105Z
LAST-MODIFIED:20241030T130108Z
UID:10003983-1791451800-1791473400@jewishdetroitcalendar.org
SUMMARY:NCJW | MI Women of Vision 2026
DESCRIPTION:Annual Women of Vision Benefit Luncheon benefiting National Council of Jewish Women\, Michigan’s community impact projects. Details to follow
URL:https://jewishdetroitcalendar.org/event/ncjw-mi-women-of-vision-2026/
LOCATION:MI
CATEGORIES:Fundraising
END:VEVENT
BEGIN:VEVENT
DTSTART;TZID=America/Detroit:20261020T180000
DTEND;TZID=America/Detroit:20261020T210000
DTSTAMP:20260421T075839
CREATED:20260121T214528Z
LAST-MODIFIED:20260121T214528Z
UID:10006992-1792519200-1792530000@jewishdetroitcalendar.org
SUMMARY:36th Annual Event
DESCRIPTION:This is our Annual Event it is a fundraising Dinner celebrating 36 years of service.
URL:https://jewishdetroitcalendar.org/event/36th-annual-event/
LOCATION:Congreation Shaarey Zedek\, 27375 Bell Road\, Southfield\, MI\, 48034\, United States
CATEGORIES:Food Provided,Fundraising,Kosher Food
ORGANIZER;CN="Yad Ezra":MAILTO:info@yadezra.org
END:VEVENT
BEGIN:VEVENT
DTSTART;TZID=America/Detroit:20261122T130000
DTEND;TZID=America/Detroit:20261122T170000
DTSTAMP:20260421T075839
CREATED:20251203T183934Z
LAST-MODIFIED:20251203T183934Z
UID:10006608-1795352400-1795366800@jewishdetroitcalendar.org
SUMMARY:Chanu-Con! - A Community-Wide Chanukah Festival (11th Annual)
DESCRIPTION:Chanu-Con! – A Community-Wide Chanukah Festival will hold its 11th Annual event on Sunday\, November 22\, 2026 from 1pm-5pm at Congregation Beth Shalom in Oak Park. Sponsorships\, vendor opportunities\, and other donations are currently being accepted. Please contact Beth Rodgers at BethShalomProgramming@gmail.com to inquire about participating in any capacity. More information about the event will be shared as Chanu-Con! nears.
URL:https://jewishdetroitcalendar.org/event/chanu-con-a-community-wide-chanukah-festival-11th-annual/
LOCATION:Congregation Beth Shalom\, 14601 West Lincoln\, Oak Park\, MI\, 48237\, united States
CATEGORIES:All Ages,Children,Entertainment,Families,Family Events,Food Available ($),Fundraising,Hannukah,Jewish Holiday,Jewish Holidays,Kids and Family,Kids Area,Kosher Food,Music,Non-denominational,Parking (free),Wheelchair Accessible,Young Children
ATTACH;FMTTYPE=image/jpeg:https://jewishdetroitcalendar.org/wp-content/uploads/2025/12/BethRodgers_ChanuCon_Logo.jpg
ORGANIZER;CN="Beth Rodgers":MAILTO:bethlrodgers@gmail.com
GEO:42.4805679;-83.1931725
X-APPLE-STRUCTURED-LOCATION;VALUE=URI;X-ADDRESS=Congregation Beth Shalom 14601 West Lincoln Oak Park MI 48237 united States;X-APPLE-RADIUS=500;X-TITLE=14601 West Lincoln:geo:-83.1931725,42.4805679
END:VEVENT
END:VCALENDAR