BEGIN:VCALENDAR
VERSION:2.0
PRODID:-//Jewish Detroit Community Calendar - ECPv6.15.11//NONSGML v1.0//EN
CALSCALE:GREGORIAN
METHOD:PUBLISH
X-WR-CALNAME:Jewish Detroit Community Calendar
X-ORIGINAL-URL:https://jewishdetroitcalendar.org
X-WR-CALDESC:Events for Jewish Detroit Community Calendar
REFRESH-INTERVAL;VALUE=DURATION:PT1H
X-Robots-Tag:noindex
X-PUBLISHED-TTL:PT1H
BEGIN:VTIMEZONE
TZID:America/Detroit
BEGIN:DAYLIGHT
TZOFFSETFROM:-0500
TZOFFSETTO:-0400
TZNAME:EDT
DTSTART:20250309T070000
END:DAYLIGHT
BEGIN:STANDARD
TZOFFSETFROM:-0400
TZOFFSETTO:-0500
TZNAME:EST
DTSTART:20251102T060000
END:STANDARD
BEGIN:DAYLIGHT
TZOFFSETFROM:-0500
TZOFFSETTO:-0400
TZNAME:EDT
DTSTART:20260308T070000
END:DAYLIGHT
BEGIN:STANDARD
TZOFFSETFROM:-0400
TZOFFSETTO:-0500
TZNAME:EST
DTSTART:20261101T060000
END:STANDARD
BEGIN:DAYLIGHT
TZOFFSETFROM:-0500
TZOFFSETTO:-0400
TZNAME:EDT
DTSTART:20270314T070000
END:DAYLIGHT
BEGIN:STANDARD
TZOFFSETFROM:-0400
TZOFFSETTO:-0500
TZNAME:EST
DTSTART:20271107T060000
END:STANDARD
END:VTIMEZONE
BEGIN:VEVENT
DTSTART;TZID=America/Detroit:20260415T190000
DTEND;TZID=America/Detroit:20260415T203000
DTSTAMP:20260420T012837
CREATED:20260212T164310Z
LAST-MODIFIED:20260320T163531Z
UID:10007236-1776279600-1776285000@jewishdetroitcalendar.org
SUMMARY:An Evening of Solidarity: Temple Israel & United Hatzalah– One Day in October Screening
DESCRIPTION:In the wake of the recent attack at Temple Israel\, our Detroit community has been deeply shaken. In moments like these\, we come together not only to support one another\, but to stand in solidarity with those facing similar trauma in Israel. Our safety\, and that of our loved one’s thousands of miles away\, is inextricably linked. \n  \nUnited Hatzalah and Temple Israel invite you to a special screening of One Day in October\, the HBO documentary miniseries capturing the human stories of October 7th. We will show the episode “Ambulance\,” offering a gripping\, on-the-ground perspective of first responders risking everything to save lives. \n  \nAfter the 30-minute screening\, we’ll hear from our founder\, Eli Beer\, about how United Hatzalah provides life-saving emergency response and psychotrauma care during crises. \n  \nWhen terror strikes\, these responders run toward danger\, becoming the thin line between life and death. Join us to stand with them\, with Israel\, and with one another. \n  \nThis event is appropriate for teenagers\, but we recommend it is not suitable for young children due to the content of the documentary. \n  \nRSVP here: https://israelrescue.org/1dayinoct/ \nWednesday\, April 15\, 2026 | 7 pm \nBerman Center for the Performing Arts\n6600 W Maple Rd\nWest Bloomfield Township\, MI 48322
URL:https://jewishdetroitcalendar.org/event/one-day-in-october-screening/
LOCATION:Berman Theatre\, JCC West Bloomfield\, United States
CATEGORIES:After October 7,Israel,Israel in Crisis
ATTACH;FMTTYPE=image/jpeg:https://jewishdetroitcalendar.org/wp-content/uploads/2026/02/Flyer-3.18.26.jpeg
ORGANIZER;CN="Friends of United Hatzalah in Israel":MAILTO:cari@israelrescue.org
GEO:37.09024;-95.712891
END:VEVENT
BEGIN:VEVENT
DTSTART;TZID=America/Detroit:20260415T190000
DTEND;TZID=America/Detroit:20260415T203000
DTSTAMP:20260420T012837
CREATED:20260410T011453Z
LAST-MODIFIED:20260412T224440Z
UID:10008460-1776279600-1776285000@jewishdetroitcalendar.org
SUMMARY:One Day in October
DESCRIPTION:Join Temple Israel and United Hatzalah for a powerful and moving eveningfeaturing a screening of One Day in October\, the HBO documentary miniseriescapturing the human stories of October 7. \nThe evening will feature the episode “Ambulance\,” offering a gripping\, on-the-ground look at the heroic first responders who risk everything to save livesin the midst of crisis. \nFollowing the 30-minute screening\, hear from Eli Beer\, Founder of UnitedHatzalah\, as he shares firsthand insights into the organization’s life-savingemergency response efforts and critical psychotrauma care. The conversationwill be moderated by Rabbi Jen Lader and will include a real-time update fromIsrael. \nWhen terror strikes\, these volunteers run toward danger\, serving as the thinline between life and death. Join us as we stand with them\, with Israel\, andwith one another. \nThis program is appropriate for teenagers; however\, due to the nature of thecontent\, it is not recommended for young children. \nAdmission is free\, with a suggested donation of $18 per guest. \nRSVP is required. Space is limited. No walk-ins permitted. \nFor more information and to RSVP: https://israelrescue.org/1dayinoct/ \nOrganized by: Israelim B’Michigan \nView event on Jlive: https://jlive.app/events/15431
URL:https://jewishdetroitcalendar.org/event/one-day-in-october-2/
LOCATION:Jewish Community Campus Road Jewish Community Campus Rd\,
CATEGORIES:Adults,College Students,Grandparents,Israel,Israel in Crisis,Older Adults,Young Adults
ATTACH;FMTTYPE=image/jpeg:https://jewishdetroitcalendar.org/wp-content/uploads/2026/04/WhatsApp_Image_2026-04-05_at_6.45.07_PM-xdBInT.jpg
ORGANIZER;CN="Israelim B'Michigan":MAILTO:adenab@israelrescue.org
END:VEVENT
END:VCALENDAR