BEGIN:VCALENDAR
VERSION:2.0
PRODID:-//Jewish Detroit Community Calendar - ECPv6.15.11//NONSGML v1.0//EN
CALSCALE:GREGORIAN
METHOD:PUBLISH
X-ORIGINAL-URL:https://jewishdetroitcalendar.org
X-WR-CALDESC:Events for Jewish Detroit Community Calendar
REFRESH-INTERVAL;VALUE=DURATION:PT1H
X-Robots-Tag:noindex
X-PUBLISHED-TTL:PT1H
BEGIN:VTIMEZONE
TZID:America/Detroit
BEGIN:DAYLIGHT
TZOFFSETFROM:-0500
TZOFFSETTO:-0400
TZNAME:EDT
DTSTART:20250309T070000
END:DAYLIGHT
BEGIN:STANDARD
TZOFFSETFROM:-0400
TZOFFSETTO:-0500
TZNAME:EST
DTSTART:20251102T060000
END:STANDARD
BEGIN:DAYLIGHT
TZOFFSETFROM:-0500
TZOFFSETTO:-0400
TZNAME:EDT
DTSTART:20260308T070000
END:DAYLIGHT
BEGIN:STANDARD
TZOFFSETFROM:-0400
TZOFFSETTO:-0500
TZNAME:EST
DTSTART:20261101T060000
END:STANDARD
BEGIN:DAYLIGHT
TZOFFSETFROM:-0500
TZOFFSETTO:-0400
TZNAME:EDT
DTSTART:20270314T070000
END:DAYLIGHT
BEGIN:STANDARD
TZOFFSETFROM:-0400
TZOFFSETTO:-0500
TZNAME:EST
DTSTART:20271107T060000
END:STANDARD
END:VTIMEZONE
BEGIN:VEVENT
DTSTART;TZID=America/Detroit:20260422T170000
DTEND;TZID=America/Detroit:20260422T190000
DTSTAMP:20260420T012855
CREATED:20260419T225946Z
LAST-MODIFIED:20260420T044441Z
UID:10008487-1776877200-1776884400@jewishdetroitcalendar.org
SUMMARY:Yom Hatzmaut BBQ
DESCRIPTION:Join us to celebrate Israel’s Independence Day with a family barbecuefeaturing Israeli favorites. Fun activities\, Don’t forget to dress in blue andwhite! \nOrganized by: Aish HaTorah Detroit \nView event on Jlive: https://jlive.app/events/15557
URL:https://jewishdetroitcalendar.org/event/yom-hatzmaut-bbq/
LOCATION:Aish Detroit 25725 Coolidge Hwy\, Oak Park
CATEGORIES:All Ages,Beverages (non alcoholic),Food Provided,Games,Israel,Kids Area,Kosher,Kosher Food,Parking (free),Vegetarian Friendly,Wheelchair Accessible
ATTACH;FMTTYPE=image/jpeg:https://jewishdetroitcalendar.org/wp-content/uploads/2026/04/Aish_Family_Yom_Haatzmaut_Dinner_April_2026-TWYgT6-scaled.jpg
ORGANIZER;CN="Aish HaTorah Detroit":MAILTO:etolwin@aishdetroit.com
END:VEVENT
END:VCALENDAR