BEGIN:VCALENDAR
VERSION:2.0
PRODID:-//Jewish Detroit Community Calendar - ECPv6.15.11//NONSGML v1.0//EN
CALSCALE:GREGORIAN
METHOD:PUBLISH
X-ORIGINAL-URL:https://jewishdetroitcalendar.org
X-WR-CALDESC:Events for Jewish Detroit Community Calendar
REFRESH-INTERVAL;VALUE=DURATION:PT1H
X-Robots-Tag:noindex
X-PUBLISHED-TTL:PT1H
BEGIN:VTIMEZONE
TZID:America/Detroit
BEGIN:DAYLIGHT
TZOFFSETFROM:-0500
TZOFFSETTO:-0400
TZNAME:EDT
DTSTART:20250309T070000
END:DAYLIGHT
BEGIN:STANDARD
TZOFFSETFROM:-0400
TZOFFSETTO:-0500
TZNAME:EST
DTSTART:20251102T060000
END:STANDARD
BEGIN:DAYLIGHT
TZOFFSETFROM:-0500
TZOFFSETTO:-0400
TZNAME:EDT
DTSTART:20260308T070000
END:DAYLIGHT
BEGIN:STANDARD
TZOFFSETFROM:-0400
TZOFFSETTO:-0500
TZNAME:EST
DTSTART:20261101T060000
END:STANDARD
BEGIN:DAYLIGHT
TZOFFSETFROM:-0500
TZOFFSETTO:-0400
TZNAME:EDT
DTSTART:20270314T070000
END:DAYLIGHT
BEGIN:STANDARD
TZOFFSETFROM:-0400
TZOFFSETTO:-0500
TZNAME:EST
DTSTART:20271107T060000
END:STANDARD
END:VTIMEZONE
BEGIN:VEVENT
DTSTART;TZID=America/Detroit:20260415T130000
DTEND;TZID=America/Detroit:20260415T143000
DTSTAMP:20260419T131350
CREATED:20260203T140020Z
LAST-MODIFIED:20260203T140020Z
UID:10007122-1776258000-1776263400@jewishdetroitcalendar.org
SUMMARY:Gray Matters:
DESCRIPTION:details to come
URL:https://jewishdetroitcalendar.org/event/gray-matters-3/
LOCATION:Jewish Family Service\, 25900 Greenfield Road\, Suite 405\, Oak Park\, MI\, 48237\, United States
CATEGORIES:Caregiving,Counseling & Support,Health & Wellness,Mental Health,Senior
ATTACH;FMTTYPE=image/jpeg:https://jewishdetroitcalendar.org/wp-content/uploads/2026/01/General-Gray-Matters-for-Calendar-2.jpg
GEO:42.4801927;-83.2009178
X-APPLE-STRUCTURED-LOCATION;VALUE=URI;X-ADDRESS=Jewish Family Service 25900 Greenfield Road Suite 405 Oak Park MI 48237 United States;X-APPLE-RADIUS=500;X-TITLE=25900 Greenfield Road\, Suite 405:geo:-83.2009178,42.4801927
END:VEVENT
END:VCALENDAR