BEGIN:VCALENDAR
VERSION:2.0
PRODID:-//Jewish Detroit Community Calendar - ECPv6.15.11//NONSGML v1.0//EN
CALSCALE:GREGORIAN
METHOD:PUBLISH
X-ORIGINAL-URL:https://jewishdetroitcalendar.org
X-WR-CALDESC:Events for Jewish Detroit Community Calendar
REFRESH-INTERVAL;VALUE=DURATION:PT1H
X-Robots-Tag:noindex
X-PUBLISHED-TTL:PT1H
BEGIN:VTIMEZONE
TZID:America/Detroit
BEGIN:DAYLIGHT
TZOFFSETFROM:-0500
TZOFFSETTO:-0400
TZNAME:EDT
DTSTART:20250309T070000
END:DAYLIGHT
BEGIN:STANDARD
TZOFFSETFROM:-0400
TZOFFSETTO:-0500
TZNAME:EST
DTSTART:20251102T060000
END:STANDARD
BEGIN:DAYLIGHT
TZOFFSETFROM:-0500
TZOFFSETTO:-0400
TZNAME:EDT
DTSTART:20260308T070000
END:DAYLIGHT
BEGIN:STANDARD
TZOFFSETFROM:-0400
TZOFFSETTO:-0500
TZNAME:EST
DTSTART:20261101T060000
END:STANDARD
BEGIN:DAYLIGHT
TZOFFSETFROM:-0500
TZOFFSETTO:-0400
TZNAME:EDT
DTSTART:20270314T070000
END:DAYLIGHT
BEGIN:STANDARD
TZOFFSETFROM:-0400
TZOFFSETTO:-0500
TZNAME:EST
DTSTART:20271107T060000
END:STANDARD
END:VTIMEZONE
BEGIN:VEVENT
DTSTART;TZID=America/Detroit:20260422T130000
DTEND;TZID=America/Detroit:20260422T150000
DTSTAMP:20260419T131352
CREATED:20260203T140020Z
LAST-MODIFIED:20260203T140020Z
UID:10007114-1776862800-1776870000@jewishdetroitcalendar.org
SUMMARY:Memory Cafe--Rhythm Circle
DESCRIPTION:Join Jewish Family Service at the Memory Cafe\, where people living with dementia and their family caregivers gather monthly to find connection and camaraderie. Enjoy engaging activities\, entertainment\, and light refreshments in a comfortable setting where you can enjoy experiences together. Our doors are open to all\, whether you’re just beginning this journey or have been traveling it for years. \nBe part of our caring community! Register at jfsdetroit.org/HUB \nMemory Cafe meets the first Wednesday of each month. See registration for upcoming dates. \nQuestions? Contact Beth at 248.592.2655 or bseelbach@jfsdetroit.
URL:https://jewishdetroitcalendar.org/event/memory-cafe-rhythm-circle/
LOCATION:The J – Detroit 6600 W Maple Rd\,
CATEGORIES:Caregiving,Counseling & Support,Health & Wellness,Mental Health,Senior
ATTACH;FMTTYPE=image/jpeg:https://jewishdetroitcalendar.org/wp-content/uploads/2026/01/Memory-Cafe-April-scaled.jpg
ORGANIZER;CN="Beth Seelbach":MAILTO:bseelbach@jfsdetroit.org
END:VEVENT
BEGIN:VEVENT
DTSTART;TZID=America/Detroit:20260422T130000
DTEND;TZID=America/Detroit:20260422T150000
DTSTAMP:20260419T131352
CREATED:20260304T185554Z
LAST-MODIFIED:20260304T185554Z
UID:10007437-1776862800-1776870000@jewishdetroitcalendar.org
SUMMARY:Memory Cafe: Rhythm Circle
DESCRIPTION:Join Jewish Family Service at the Memory Cafe\, where people living with dementia and their family caregivers gather monthly to find connection and camaraderie. Enjoy engaging activities\, entertainment\, and light refreshments in a comfortable setting where you can enjoy experiences together. Our doors are open to all\, whether you’re just beginning this journey or have been traveling it for years. \nWednesday\, April 22\, 1-3pm at The J \nBe part of our caring community! Register at jfsdetroit.org/HUB  \nMemory Cafe meets the first Wednesday of each month. See registration for upcoming dates. \nQuestions? Contact Beth at 248.592.2655 or bseelbach@jfsdetroit.org.
URL:https://jewishdetroitcalendar.org/event/memory-cafe-rhythm-circle-2/
LOCATION:The J of Metropolitan Detroit\, 6600 W Maple Road\, West Bloomfield\, MI\, 48322\, United States
CATEGORIES:Caregiving,Health & Wellness,Mental Health,Non-denominational,Older Adults
ATTACH;FMTTYPE=image/jpeg:https://jewishdetroitcalendar.org/wp-content/uploads/2026/03/Memory-Cafe-April-scaled.jpg
ORGANIZER;CN="Beth Seelbach":MAILTO:bseelbach@jfsdetroit.org
GEO:42.5441406;-83.4044757
X-APPLE-STRUCTURED-LOCATION;VALUE=URI;X-ADDRESS=The J of Metropolitan Detroit 6600 W Maple Road West Bloomfield MI 48322 United States;X-APPLE-RADIUS=500;X-TITLE=6600 W Maple Road:geo:-83.4044757,42.5441406
END:VEVENT
END:VCALENDAR