BEGIN:VCALENDAR
VERSION:2.0
PRODID:-//Jewish Detroit Community Calendar - ECPv6.15.11//NONSGML v1.0//EN
CALSCALE:GREGORIAN
METHOD:PUBLISH
X-ORIGINAL-URL:https://jewishdetroitcalendar.org
X-WR-CALDESC:Events for Jewish Detroit Community Calendar
REFRESH-INTERVAL;VALUE=DURATION:PT1H
X-Robots-Tag:noindex
X-PUBLISHED-TTL:PT1H
BEGIN:VTIMEZONE
TZID:America/Detroit
BEGIN:DAYLIGHT
TZOFFSETFROM:-0500
TZOFFSETTO:-0400
TZNAME:EDT
DTSTART:20250309T070000
END:DAYLIGHT
BEGIN:STANDARD
TZOFFSETFROM:-0400
TZOFFSETTO:-0500
TZNAME:EST
DTSTART:20251102T060000
END:STANDARD
BEGIN:DAYLIGHT
TZOFFSETFROM:-0500
TZOFFSETTO:-0400
TZNAME:EDT
DTSTART:20260308T070000
END:DAYLIGHT
BEGIN:STANDARD
TZOFFSETFROM:-0400
TZOFFSETTO:-0500
TZNAME:EST
DTSTART:20261101T060000
END:STANDARD
BEGIN:DAYLIGHT
TZOFFSETFROM:-0500
TZOFFSETTO:-0400
TZNAME:EDT
DTSTART:20270314T070000
END:DAYLIGHT
BEGIN:STANDARD
TZOFFSETFROM:-0400
TZOFFSETTO:-0500
TZNAME:EST
DTSTART:20271107T060000
END:STANDARD
END:VTIMEZONE
BEGIN:VEVENT
DTSTART;TZID=America/Detroit:20260511T110000
DTEND;TZID=America/Detroit:20260511T120000
DTSTAMP:20260419T161853
CREATED:20260203T140020Z
LAST-MODIFIED:20260203T140020Z
UID:10007162-1778497200-1778500800@jewishdetroitcalendar.org
SUMMARY:Strengthening Minds Together*: Classes for caregivers and their loved ones with dementia
DESCRIPTION:Living with a loved one on the dementia journey can make us wonder about our own cognitive health. Mind University’s proven cognitive training classes are fun\, interactive and translate to real-world results. While you take time to sharpen your mind\, your loved one will be engaged in a class just right for them. \nClasses target and challenge six critical cognitive functions with increasing speed and difficulty as sessions progress. \nMondays and Thursdays starting March 2 at 11am \nClasses run for 12 weeks and are held at The J. \nInterested? Contact 248.788.MIND or MindU@jfsdetroit.org. \n  \n*A program of Jewish Family Service’s Caring Connections Neighborhood Hub
URL:https://jewishdetroitcalendar.org/event/strengthening-minds-together-classes-for-caregivers-and-their-loved-ones-with-dementia/2026-05-11/
LOCATION:The J\, 6600 West Maple Road\, West Bloomfield\, MI\, 48323\, United States
CATEGORIES:Active Aging,Caregiving,Health & Wellness,Mental Health,Older Adults,Senior
ATTACH;FMTTYPE=image/jpeg:https://jewishdetroitcalendar.org/wp-content/uploads/2026/02/Hub-Mind-U-Classes-March-2026-scaled.jpg
END:VEVENT
END:VCALENDAR