BEGIN:VCALENDAR
VERSION:2.0
PRODID:-//Jewish Detroit Community Calendar - ECPv6.15.11//NONSGML v1.0//EN
CALSCALE:GREGORIAN
METHOD:PUBLISH
X-WR-CALNAME:Jewish Detroit Community Calendar
X-ORIGINAL-URL:https://jewishdetroitcalendar.org
X-WR-CALDESC:Events for Jewish Detroit Community Calendar
REFRESH-INTERVAL;VALUE=DURATION:PT1H
X-Robots-Tag:noindex
X-PUBLISHED-TTL:PT1H
BEGIN:VTIMEZONE
TZID:America/Detroit
BEGIN:DAYLIGHT
TZOFFSETFROM:-0500
TZOFFSETTO:-0400
TZNAME:EDT
DTSTART:20250309T070000
END:DAYLIGHT
BEGIN:STANDARD
TZOFFSETFROM:-0400
TZOFFSETTO:-0500
TZNAME:EST
DTSTART:20251102T060000
END:STANDARD
BEGIN:DAYLIGHT
TZOFFSETFROM:-0500
TZOFFSETTO:-0400
TZNAME:EDT
DTSTART:20260308T070000
END:DAYLIGHT
BEGIN:STANDARD
TZOFFSETFROM:-0400
TZOFFSETTO:-0500
TZNAME:EST
DTSTART:20261101T060000
END:STANDARD
BEGIN:DAYLIGHT
TZOFFSETFROM:-0500
TZOFFSETTO:-0400
TZNAME:EDT
DTSTART:20270314T070000
END:DAYLIGHT
BEGIN:STANDARD
TZOFFSETFROM:-0400
TZOFFSETTO:-0500
TZNAME:EST
DTSTART:20271107T060000
END:STANDARD
END:VTIMEZONE
BEGIN:VEVENT
DTSTART;TZID=America/Detroit:20260521T110000
DTEND;TZID=America/Detroit:20260521T120000
DTSTAMP:20260419T160528
CREATED:20260203T140020Z
LAST-MODIFIED:20260203T140020Z
UID:10007165-1779361200-1779364800@jewishdetroitcalendar.org
SUMMARY:Strengthening Minds Together*: Classes for caregivers and their loved ones with dementia
DESCRIPTION:Living with a loved one on the dementia journey can make us wonder about our own cognitive health. Mind University’s proven cognitive training classes are fun\, interactive and translate to real-world results. While you take time to sharpen your mind\, your loved one will be engaged in a class just right for them. \nClasses target and challenge six critical cognitive functions with increasing speed and difficulty as sessions progress. \nMondays and Thursdays starting March 2 at 11am \nClasses run for 12 weeks and are held at The J. \nInterested? Contact 248.788.MIND or MindU@jfsdetroit.org. \n  \n*A program of Jewish Family Service’s Caring Connections Neighborhood Hub
URL:https://jewishdetroitcalendar.org/event/strengthening-minds-together-classes-for-caregivers-and-their-loved-ones-with-dementia/2026-05-21/
LOCATION:The J\, 6600 West Maple Road\, West Bloomfield\, MI\, 48323\, United States
CATEGORIES:Active Aging,Caregiving,Health & Wellness,Mental Health,Older Adults,Senior
ATTACH;FMTTYPE=image/jpeg:https://jewishdetroitcalendar.org/wp-content/uploads/2026/02/Hub-Mind-U-Classes-March-2026-scaled.jpg
END:VEVENT
BEGIN:VEVENT
DTSTART;TZID=America/Detroit:20260521T130000
DTEND;TZID=America/Detroit:20260521T140000
DTSTAMP:20260419T160528
CREATED:20260324T161033Z
LAST-MODIFIED:20260324T161033Z
UID:10007930-1779368400-1779372000@jewishdetroitcalendar.org
SUMMARY:Are you a man caring for a loved one?
DESCRIPTION:Caregiving brings unique challenges. This support group is designed specifically for men navigating these responsibilities. \nJoin this 6-week group where you’ll meet with other men facing similar situations\, share what works\, and get the support that you need. You will learn practical skills to help you in your caregiving journey. This group will provide: \n• Connection with other men who understand and share your experience \n• Discussion of challenges specific to men in caregiving roles \n• Information about available resources and services \n• Support to reduce stress and prevent isolation \nThursdays from 1-2pm \nStarting April 16\, 2026 \nSession Dates: April 16\, 23\, 30\, May 7\, 14\, 21 \nJewish Family Service  |  6555 West Maple Road\, West Bloomfield \nFacilitated by Jewish Family Service social worker Kyle Neely\, LMSW\, CAADC \nTo register\, or for questions\, contact Beth Seelbach at 248.592.2655 or bseelbach@jfsdetroit.org
URL:https://jewishdetroitcalendar.org/event/are-you-a-man-caring-for-a-loved-one/2026-05-21/
LOCATION:Jewish Family Service\, 25900 Greenfield Road\, Suite 405\, Oak Park\, MI\, 48237\, United States
CATEGORIES:Caregiving,Counseling & Support,Men's Events,Mental Health
ATTACH;FMTTYPE=image/jpeg:https://jewishdetroitcalendar.org/wp-content/uploads/2026/03/Mens-Support-Group-Social-April-2026-scaled.jpg
ORGANIZER;CN="Beth Seelbach":MAILTO:bseelbach@jfsdetroit.org
GEO:42.4801927;-83.2009178
X-APPLE-STRUCTURED-LOCATION;VALUE=URI;X-ADDRESS=Jewish Family Service 25900 Greenfield Road Suite 405 Oak Park MI 48237 United States;X-APPLE-RADIUS=500;X-TITLE=25900 Greenfield Road\, Suite 405:geo:-83.2009178,42.4801927
END:VEVENT
BEGIN:VEVENT
DTSTART;TZID=America/Detroit:20260521T143000
DTEND;TZID=America/Detroit:20260521T153000
DTSTAMP:20260419T160528
CREATED:20260324T161031Z
LAST-MODIFIED:20260324T161032Z
UID:10007870-1779373800-1779377400@jewishdetroitcalendar.org
SUMMARY:Family Caregiver Support Group
DESCRIPTION:Taking care of a loved one can be challenging. Jewish Family Service wants to help. \n  \nYou are invited to join a supportive network of people who understand the challenges and rewards of caregiving in our Family Caregiver Support Group. This weekly group will provide a welcoming\, judgement-free place to connect\, share experiences and help one another through the stresses of caregiving. \nTopics may include: \n• Avoiding isolation and loneliness  \n• Reducing stress and low mood \n• Preventing caregiver burnout \n• Learning about helpful resources \n• Boosting caregiver confidence \n• Planning for the future \nThursdays from 2:30-3:30 pm  \n6 sessions starting on Thursday\, April 16 and continuing on April 30\, May 7\, 14\, 21\, 28 \n Jewish Family Service  |  6555 West Maple Road\, West Bloomfield  \nTo register\, email familycaregiversupport@jfsdetroit.org \n  \nQuestions? Contact Beth Seelbach\, facilitator and JFS Family Caregiver Support Program Coordinator\, at 248.763.6350 or bseelbach@jfsdetroit.org.
URL:https://jewishdetroitcalendar.org/event/__trashed/2026-05-21/
LOCATION:Jewish Family Service\, 25900 Greenfield Road\, Suite 405\, Oak Park\, MI\, 48237\, United States
CATEGORIES:Caregiving,Health & Wellness,Mental Health,Senior
ATTACH;FMTTYPE=image/jpeg:https://jewishdetroitcalendar.org/wp-content/uploads/2026/03/Caregiver-Support-Group-Social-April-2026-scaled.jpg
ORGANIZER;CN="Beth Seelbach":MAILTO:bseelbach@jfsdetroit.org
GEO:42.4801927;-83.2009178
X-APPLE-STRUCTURED-LOCATION;VALUE=URI;X-ADDRESS=Jewish Family Service 25900 Greenfield Road Suite 405 Oak Park MI 48237 United States;X-APPLE-RADIUS=500;X-TITLE=25900 Greenfield Road\, Suite 405:geo:-83.2009178,42.4801927
END:VEVENT
END:VCALENDAR