BEGIN:VCALENDAR
VERSION:2.0
PRODID:-//Jewish Detroit Community Calendar - ECPv6.15.11//NONSGML v1.0//EN
CALSCALE:GREGORIAN
METHOD:PUBLISH
X-WR-CALNAME:Jewish Detroit Community Calendar
X-ORIGINAL-URL:https://jewishdetroitcalendar.org
X-WR-CALDESC:Events for Jewish Detroit Community Calendar
REFRESH-INTERVAL;VALUE=DURATION:PT1H
X-Robots-Tag:noindex
X-PUBLISHED-TTL:PT1H
BEGIN:VTIMEZONE
TZID:America/Detroit
BEGIN:DAYLIGHT
TZOFFSETFROM:-0500
TZOFFSETTO:-0400
TZNAME:EDT
DTSTART:20250309T070000
END:DAYLIGHT
BEGIN:STANDARD
TZOFFSETFROM:-0400
TZOFFSETTO:-0500
TZNAME:EST
DTSTART:20251102T060000
END:STANDARD
BEGIN:DAYLIGHT
TZOFFSETFROM:-0500
TZOFFSETTO:-0400
TZNAME:EDT
DTSTART:20260308T070000
END:DAYLIGHT
BEGIN:STANDARD
TZOFFSETFROM:-0400
TZOFFSETTO:-0500
TZNAME:EST
DTSTART:20261101T060000
END:STANDARD
BEGIN:DAYLIGHT
TZOFFSETFROM:-0500
TZOFFSETTO:-0400
TZNAME:EDT
DTSTART:20270314T070000
END:DAYLIGHT
BEGIN:STANDARD
TZOFFSETFROM:-0400
TZOFFSETTO:-0500
TZNAME:EST
DTSTART:20271107T060000
END:STANDARD
END:VTIMEZONE
BEGIN:VEVENT
DTSTART;TZID=America/Detroit:20260607T140000
DTEND;TZID=America/Detroit:20260607T160000
DTSTAMP:20260420T164401
CREATED:20251126T175619Z
LAST-MODIFIED:20251126T175621Z
UID:10006593-1780840800-1780848000@jewishdetroitcalendar.org
SUMMARY:Program For Holocaust Survivors & Families Annual Fundraising Event
DESCRIPTION:The Program For Holocaust Survivors & Families/Jewish Senior Life will have it’s annual event\, a concert honoring America on it’s 250th anniversary. The concert will look at Jewish Americans’ contributions to American life\, over the years\, through music.
URL:https://jewishdetroitcalendar.org/event/program-for-holocaust-survivors-families-annual-fundraising-event/
LOCATION:Beth Ahm\, 5075 W Maple Rd\, West Bloomfield\, MI\, 48322\, united States
CATEGORIES:Music
ORGANIZER;CN="Program for Holocaust Survivors &amp%3Bamp%3B Families%2C Jewish Senior Life":MAILTO:csilow@jslmi.org
GEO:42.5431003;-83.3258412
X-APPLE-STRUCTURED-LOCATION;VALUE=URI;X-ADDRESS=Beth Ahm 5075 W Maple Rd West Bloomfield MI 48322 united States;X-APPLE-RADIUS=500;X-TITLE=5075 W Maple Rd:geo:-83.3258412,42.5431003
END:VEVENT
END:VCALENDAR