BEGIN:VCALENDAR
VERSION:2.0
PRODID:-//Jewish Detroit Community Calendar - ECPv6.15.11//NONSGML v1.0//EN
CALSCALE:GREGORIAN
METHOD:PUBLISH
X-ORIGINAL-URL:https://jewishdetroitcalendar.org
X-WR-CALDESC:Events for Jewish Detroit Community Calendar
REFRESH-INTERVAL;VALUE=DURATION:PT1H
X-Robots-Tag:noindex
X-PUBLISHED-TTL:PT1H
BEGIN:VTIMEZONE
TZID:America/Detroit
BEGIN:DAYLIGHT
TZOFFSETFROM:-0500
TZOFFSETTO:-0400
TZNAME:EDT
DTSTART:20250309T070000
END:DAYLIGHT
BEGIN:STANDARD
TZOFFSETFROM:-0400
TZOFFSETTO:-0500
TZNAME:EST
DTSTART:20251102T060000
END:STANDARD
BEGIN:DAYLIGHT
TZOFFSETFROM:-0500
TZOFFSETTO:-0400
TZNAME:EDT
DTSTART:20260308T070000
END:DAYLIGHT
BEGIN:STANDARD
TZOFFSETFROM:-0400
TZOFFSETTO:-0500
TZNAME:EST
DTSTART:20261101T060000
END:STANDARD
BEGIN:DAYLIGHT
TZOFFSETFROM:-0500
TZOFFSETTO:-0400
TZNAME:EDT
DTSTART:20270314T070000
END:DAYLIGHT
BEGIN:STANDARD
TZOFFSETFROM:-0400
TZOFFSETTO:-0500
TZNAME:EST
DTSTART:20271107T060000
END:STANDARD
END:VTIMEZONE
BEGIN:VEVENT
DTSTART;TZID=America/Detroit:20260425T110000
DTEND;TZID=America/Detroit:20260425T120000
DTSTAMP:20260420T151117
CREATED:20260401T151551Z
LAST-MODIFIED:20260420T182953Z
UID:10008448-1777114800-1777118400@jewishdetroitcalendar.org
SUMMARY:Tot Shabbat
DESCRIPTION:We are so excited to welcome Lindsay Mall\, early childhood educator and localcelebrity amongst the 5 and under crowd\, to make music with us and celebrateShabbat in a meaningful way for the youngest members of our community! \nBeginning at 11:00am\, families with young children (~0-5 years old) areinvited to join us in our 1st floor Community Room. We’ll have sensory playand independent activities to enjoy while everyone arrives and settles in\, andthen we’ll begin our musical Shabbat song session around 11:20am. Shortlyafter 12pm\, we’ll head upstairs to the sanctuary to join the adults for theend of their Shabbat service\, and then we’ll all reconvene on the 1st floorfor Kiddush and lunch. \nThere is no charge to attend\, though advance registration is appreciated so wecan prepare for the right number of people. \nOrganized by: Isaac Agree Downtown Synagogue \nView event on Jlive: https://jlive.app/events/15363
URL:https://jewishdetroitcalendar.org/event/tot-shabbat-2/
LOCATION:Isaac Agree Downtown Synagogue 1457 Griswold St\, Detroit
CATEGORIES:Families,Jewish Holiday,Music,Shabbat,Young Children
ATTACH;FMTTYPE=image/png:https://jewishdetroitcalendar.org/wp-content/uploads/2026/04/Tot_Shabbat_2-4IvB3M.png
ORGANIZER;CN="Isaac Agree Downtown Synagogue":MAILTO:hello@downtownsynagogue.org
END:VEVENT
BEGIN:VEVENT
DTSTART;TZID=America/Detroit:20260425T111500
DTEND;TZID=America/Detroit:20260425T120000
DTSTAMP:20260420T151117
CREATED:20260401T151554Z
LAST-MODIFIED:20260420T182953Z
UID:10008449-1777115700-1777118400@jewishdetroitcalendar.org
SUMMARY:Kids Kehillah
DESCRIPTION:Kids Kehillah is a new song-filled Shabbat service for kids ages ~6-10\, withengaging and age-appropriate learning about the prayers\, Torah portion\, and/orrelevant holidays. This monthly program will allow our elementary schoolers tobuild community with each other\, deepen their Jewish learning\, and have fundoing it! \nWe’ll be using the siddur Mishkan T’filah for Youth as our guiding resource.No prior knowledge is needed. Kids Kehillah will take place from11:15am-12:00pm in a separate space\, while services in our main sanctuary areunderway. Shortly after 12:00pm\, we’ll head upstairs to join the adults forthe end of our main Shabbat service\, and then we’ll all reconvene on the 1stfloor for Kiddush and lunch. Parents are welcome to join for Kids Kehillah butaren’t required – feel free to stay in the main service! \nThis month\, Rabbi Silverman and Rabbi Benjamin Altshuler will lead KidsKehillah. \nAdvance registration is appreciated so we can prepare for the right number ofpeople. \nOrganized by: Isaac Agree Downtown Synagogue \nView event on Jlive: https://jlive.app/events/15381
URL:https://jewishdetroitcalendar.org/event/kids-kehillah-2/
LOCATION:Isaac Agree Downtown Synagogue 1457 Griswold St\, Detroit
CATEGORIES:Children,Families,Jewish Holiday,Jewish Learning,Music,Shabbat
ATTACH;FMTTYPE=image/png:https://jewishdetroitcalendar.org/wp-content/uploads/2026/04/Tot_Shabbat_1-oiRfe8.png
ORGANIZER;CN="Isaac Agree Downtown Synagogue":MAILTO:hello@downtownsynagogue.org
END:VEVENT
END:VCALENDAR