BEGIN:VCALENDAR
VERSION:2.0
PRODID:-//Jewish Detroit Community Calendar - ECPv6.15.11//NONSGML v1.0//EN
CALSCALE:GREGORIAN
METHOD:PUBLISH
X-WR-CALNAME:Jewish Detroit Community Calendar
X-ORIGINAL-URL:https://jewishdetroitcalendar.org
X-WR-CALDESC:Events for Jewish Detroit Community Calendar
REFRESH-INTERVAL;VALUE=DURATION:PT1H
X-Robots-Tag:noindex
X-PUBLISHED-TTL:PT1H
BEGIN:VTIMEZONE
TZID:America/Detroit
BEGIN:DAYLIGHT
TZOFFSETFROM:-0500
TZOFFSETTO:-0400
TZNAME:EDT
DTSTART:20250309T070000
END:DAYLIGHT
BEGIN:STANDARD
TZOFFSETFROM:-0400
TZOFFSETTO:-0500
TZNAME:EST
DTSTART:20251102T060000
END:STANDARD
BEGIN:DAYLIGHT
TZOFFSETFROM:-0500
TZOFFSETTO:-0400
TZNAME:EDT
DTSTART:20260308T070000
END:DAYLIGHT
BEGIN:STANDARD
TZOFFSETFROM:-0400
TZOFFSETTO:-0500
TZNAME:EST
DTSTART:20261101T060000
END:STANDARD
BEGIN:DAYLIGHT
TZOFFSETFROM:-0500
TZOFFSETTO:-0400
TZNAME:EDT
DTSTART:20270314T070000
END:DAYLIGHT
BEGIN:STANDARD
TZOFFSETFROM:-0400
TZOFFSETTO:-0500
TZNAME:EST
DTSTART:20271107T060000
END:STANDARD
END:VTIMEZONE
BEGIN:VEVENT
DTSTART;TZID=America/Detroit:20260426T103000
DTEND;TZID=America/Detroit:20260426T123000
DTSTAMP:20260421T060313
CREATED:20260410T011535Z
LAST-MODIFIED:20260421T092953Z
UID:10008465-1777199400-1777206600@jewishdetroitcalendar.org
SUMMARY:National Days of Jewish Service Volunteering
DESCRIPTION:Join Mezuzah for a volunteer opportunity to celebrate Repair the World’sNational Days of Jewish Service\, and make a difference in the Detroitcommunity! Volunteering will focus mostly on cleaning up a neighborhood lot.Lunch will be served! \nOrganized by: Mezuzah Detroit \nView event on Jlive: https://jlive.app/events/15400
URL:https://jewishdetroitcalendar.org/event/national-days-of-jewish-service-volunteering/
LOCATION:NW Goldberg \, Detroit
CATEGORIES:All Ages,Food Provided,Kosher Food,Outdoors,Parking (free),Volunteering
ATTACH;FMTTYPE=image/png:https://jewishdetroitcalendar.org/wp-content/uploads/2026/04/Mezuzah_JLive_11-jqvObm.png
ORGANIZER;CN="Mezuzah Detroit":MAILTO:jeremy@mezuzahdetroit.org
END:VEVENT
BEGIN:VEVENT
DTSTART;TZID=America/Detroit:20260426T110000
DTEND;TZID=America/Detroit:20260426T130000
DTSTAMP:20260421T060313
CREATED:20260419T230027Z
LAST-MODIFIED:20260421T092953Z
UID:10008490-1777201200-1777208400@jewishdetroitcalendar.org
SUMMARY:Mitzvah Day
DESCRIPTION:**_Mitzvah Day_** \n**Sunday\, April 26 at 11:00am** \nAdults and Children volunteering doing Tikkun Olam together. \nProjects include: \ncat toys\, \nmaking an upcycled water bottle chandelier\, \ncreating tea bags\, \ngarbage cleanup outdoors and more. \nMitzvah Day is hosted by the Social Action Committee and the Religious Schoolin partnership with Repair the World. TKA Sisterhood always contributes. Thisyear Sisterhood’s project of assembling hygiene kits for the Ruth EllisCenter. \n**לֹא עָלֶיךָ הַמְּלָאכָה לִגְמֹר וְלֹא אַתָּה בֶן חוֹרִין לְהִבָּטֵלמִמֶּנָּה** \nIt is not your duty to finish the work\, but neither are you at liberty toneglect it. (Pirkei Avot 2:16) \nOrganized by: Temple Kol Ami\, Repair The World \nView event on Jlive: https://jlive.app/events/15487
URL:https://jewishdetroitcalendar.org/event/mitzvah-day-2/
LOCATION:Temple Kol Ami 5085 Walnut Lake Rd\,
CATEGORIES:All Ages,Volunteering
ATTACH;FMTTYPE=image/jpeg:https://jewishdetroitcalendar.org/wp-content/uploads/2026/04/2025_Mitzvah_Day_960_x_600_px-Cyppux.jpg
ORGANIZER;CN="Temple Kol Ami":MAILTO:cspektor@tkolami.org
END:VEVENT
END:VCALENDAR