BEGIN:VCALENDAR
VERSION:2.0
PRODID:-//Jewish Detroit Community Calendar - ECPv6.15.11//NONSGML v1.0//EN
CALSCALE:GREGORIAN
METHOD:PUBLISH
X-WR-CALNAME:Jewish Detroit Community Calendar
X-ORIGINAL-URL:https://jewishdetroitcalendar.org
X-WR-CALDESC:Events for Jewish Detroit Community Calendar
REFRESH-INTERVAL;VALUE=DURATION:PT1H
X-Robots-Tag:noindex
X-PUBLISHED-TTL:PT1H
BEGIN:VTIMEZONE
TZID:America/Detroit
BEGIN:DAYLIGHT
TZOFFSETFROM:-0500
TZOFFSETTO:-0400
TZNAME:EDT
DTSTART:20250309T070000
END:DAYLIGHT
BEGIN:STANDARD
TZOFFSETFROM:-0400
TZOFFSETTO:-0500
TZNAME:EST
DTSTART:20251102T060000
END:STANDARD
BEGIN:DAYLIGHT
TZOFFSETFROM:-0500
TZOFFSETTO:-0400
TZNAME:EDT
DTSTART:20260308T070000
END:DAYLIGHT
BEGIN:STANDARD
TZOFFSETFROM:-0400
TZOFFSETTO:-0500
TZNAME:EST
DTSTART:20261101T060000
END:STANDARD
BEGIN:DAYLIGHT
TZOFFSETFROM:-0500
TZOFFSETTO:-0400
TZNAME:EDT
DTSTART:20270314T070000
END:DAYLIGHT
BEGIN:STANDARD
TZOFFSETFROM:-0400
TZOFFSETTO:-0500
TZNAME:EST
DTSTART:20271107T060000
END:STANDARD
END:VTIMEZONE
BEGIN:VEVENT
DTSTART;TZID=America/Detroit:20260414T190000
DTEND;TZID=America/Detroit:20260414T203000
DTSTAMP:20260419T130415
CREATED:20260304T142953Z
LAST-MODIFIED:20260412T224440Z
UID:10007371-1776193200-1776198600@jewishdetroitcalendar.org
SUMMARY:Reading of Megillat HaShoah
DESCRIPTION:The community is invited to Congregation Beth Ahm for the reading of MegillatHaShoah – The Holocaust Scroll. Megillat HaShoah was specially created tohonor the memory Holocaust victims by providing a scroll that can be read onYom HaShoah. \n**_Participating synagogues_** \nAdat Shalom Synagogue\, B’nai Israel Synagogue\, Congregation Beth Ahm\, \nCongregation Beth Shalom\, Congregation B’nai Moshe\, and Congregation ShaareyZedek \nOrganized by: B’nai Israel Synagogue\, Congregation Beth Shalom\, CongregationBeth Ahm\, Congregation B’nai Moshe\, Congregation Shaarey Zedek\, Adat ShalomSynagogue \nView event on Jlive: https://jlive.app/events/15032 \nClick here to join the livestream. https://www.cbahm.org/livestream
URL:https://jewishdetroitcalendar.org/event/reading-of-megillat-hashoah/
LOCATION:Congregation Beth Ahm 5075 W Maple Rd\,\, West Maple Road 5075\, Michigan\, 48322\, United States
CATEGORIES:All Ages,Holocaust,Wheelchair Accessible
ATTACH;FMTTYPE=image/jpeg:https://jewishdetroitcalendar.org/wp-content/uploads/2026/03/megillat_hashoah-Qx23Eu.jpg
ORGANIZER;CN="Congregation Beth Ahm":MAILTO:dgoodman@cbahm.org
GEO:42.5430206;-83.3255164
X-APPLE-STRUCTURED-LOCATION;VALUE=URI;X-ADDRESS=Congregation Beth Ahm 5075 W Maple Rd West Maple Road 5075 Michigan 48322 United States;X-APPLE-RADIUS=500;X-TITLE=West Maple Road 5075:geo:-83.3255164,42.5430206
END:VEVENT
END:VCALENDAR