BEGIN:VCALENDAR
VERSION:2.0
PRODID:-//Jewish Detroit Community Calendar - ECPv6.15.11//NONSGML v1.0//EN
CALSCALE:GREGORIAN
METHOD:PUBLISH
X-ORIGINAL-URL:https://jewishdetroitcalendar.org
X-WR-CALDESC:Events for Jewish Detroit Community Calendar
REFRESH-INTERVAL;VALUE=DURATION:PT1H
X-Robots-Tag:noindex
X-PUBLISHED-TTL:PT1H
BEGIN:VTIMEZONE
TZID:America/Detroit
BEGIN:DAYLIGHT
TZOFFSETFROM:-0500
TZOFFSETTO:-0400
TZNAME:EDT
DTSTART:20250309T070000
END:DAYLIGHT
BEGIN:STANDARD
TZOFFSETFROM:-0400
TZOFFSETTO:-0500
TZNAME:EST
DTSTART:20251102T060000
END:STANDARD
BEGIN:DAYLIGHT
TZOFFSETFROM:-0500
TZOFFSETTO:-0400
TZNAME:EDT
DTSTART:20260308T070000
END:DAYLIGHT
BEGIN:STANDARD
TZOFFSETFROM:-0400
TZOFFSETTO:-0500
TZNAME:EST
DTSTART:20261101T060000
END:STANDARD
BEGIN:DAYLIGHT
TZOFFSETFROM:-0500
TZOFFSETTO:-0400
TZNAME:EDT
DTSTART:20270314T070000
END:DAYLIGHT
BEGIN:STANDARD
TZOFFSETFROM:-0400
TZOFFSETTO:-0500
TZNAME:EST
DTSTART:20271107T060000
END:STANDARD
END:VTIMEZONE
BEGIN:VEVENT
DTSTART;TZID=America/Detroit:20260426T110000
DTEND;TZID=America/Detroit:20260426T120000
DTSTAMP:20260419T131253
CREATED:20260304T145955Z
LAST-MODIFIED:20260412T224530Z
UID:10007372-1777201200-1777204800@jewishdetroitcalendar.org
SUMMARY:Exploring Torah and Letters
DESCRIPTION:Join Rabbi Bec for an interactive\, hands-on exploration of Torah. We’ll havethe chance to hold some of Rabbi Bec’s scribing tools\, take a close look at aTorah scroll\, ask big questions about how Torah scrolls are made and repaired\,and use calligraphy pens to try out scribing. (Hebrew alphabet coloring sheetswill be available\, as well.) \nThis workshop is for kids in kindergarten thru 8th grade with their parentsand/or grandparents. Younger siblings are welcome.  Advance registration at[www.cbahm.org/event/torahletters042626](https://www.cbahm.org/event/torahletters042626)is required. \nOrganized by: Congregation Beth Ahm \nView event on Jlive: https://jlive.app/events/15035
URL:https://jewishdetroitcalendar.org/event/exploring-torah-and-letters/
LOCATION:Congregation Beth Ahm 5075 W Maple Rd\,\, West Maple Road 5075\, Michigan\, 48322\, United States
CATEGORIES:Children,Educational,Families,Grandparents,Jewish Learning,Parents,Wheelchair Accessible,Young Children
ATTACH;FMTTYPE=image/jpeg:https://jewishdetroitcalendar.org/wp-content/uploads/2026/03/richman_family-N44w6j.jpg
ORGANIZER;CN="Congregation Beth Ahm":MAILTO:dgoodman@cbahm.org
GEO:42.5430206;-83.3255164
X-APPLE-STRUCTURED-LOCATION;VALUE=URI;X-ADDRESS=Congregation Beth Ahm 5075 W Maple Rd West Maple Road 5075 Michigan 48322 United States;X-APPLE-RADIUS=500;X-TITLE=West Maple Road 5075:geo:-83.3255164,42.5430206
END:VEVENT
END:VCALENDAR