BEGIN:VCALENDAR
VERSION:2.0
PRODID:-//Jewish Detroit Community Calendar - ECPv6.15.11//NONSGML v1.0//EN
CALSCALE:GREGORIAN
METHOD:PUBLISH
X-WR-CALNAME:Jewish Detroit Community Calendar
X-ORIGINAL-URL:https://jewishdetroitcalendar.org
X-WR-CALDESC:Events for Jewish Detroit Community Calendar
REFRESH-INTERVAL;VALUE=DURATION:PT1H
X-Robots-Tag:noindex
X-PUBLISHED-TTL:PT1H
BEGIN:VTIMEZONE
TZID:America/Detroit
BEGIN:DAYLIGHT
TZOFFSETFROM:-0500
TZOFFSETTO:-0400
TZNAME:EDT
DTSTART:20250309T070000
END:DAYLIGHT
BEGIN:STANDARD
TZOFFSETFROM:-0400
TZOFFSETTO:-0500
TZNAME:EST
DTSTART:20251102T060000
END:STANDARD
BEGIN:DAYLIGHT
TZOFFSETFROM:-0500
TZOFFSETTO:-0400
TZNAME:EDT
DTSTART:20260308T070000
END:DAYLIGHT
BEGIN:STANDARD
TZOFFSETFROM:-0400
TZOFFSETTO:-0500
TZNAME:EST
DTSTART:20261101T060000
END:STANDARD
BEGIN:DAYLIGHT
TZOFFSETFROM:-0500
TZOFFSETTO:-0400
TZNAME:EDT
DTSTART:20270314T070000
END:DAYLIGHT
BEGIN:STANDARD
TZOFFSETFROM:-0400
TZOFFSETTO:-0500
TZNAME:EST
DTSTART:20271107T060000
END:STANDARD
END:VTIMEZONE
BEGIN:VEVENT
DTSTART;TZID=America/Detroit:20260614T130000
DTEND;TZID=America/Detroit:20260614T150000
DTSTAMP:20260419T162331
CREATED:20260410T011743Z
LAST-MODIFIED:20260412T224717Z
UID:10008484-1781442000-1781449200@jewishdetroitcalendar.org
SUMMARY:Mosaic Pendant Workshop with Sue Majewski
DESCRIPTION:Join artist Sue Majewski for a hands-on workshop where you’ll design and craftyour own stunning mosaic necklace pendant! \nUsing an extensive assortment of colorful beads and mosaic materials invarious shapes and sizes\, you will learn to build a custom design within yourchoice of pendant frame. \nSue will guide you through the process step-by-step\, sharing the techniquesshe uses to create her signature fine-art pieces. To ensure your wearable artlasts a lifetime\, each pendant is finished with a professional epoxy resin.Complete your piece with an included black cord\, or take it home to add toyour favorite personal chain. \nRegistration deadline: Sunday\, June 7 \n**OPEN HOURS DURING EXHIBITS:** \n_Sunday\, Tuesday\, Wednesday – 10 am – 4 pm_ \n _Thursday – 11 am – 7 pm_ \n _*Visit the website or social media for up-to-date information & holidayclosures._ \nOrganized by: Janice Charach Gallery \nView event on Jlive: https://jlive.app/events/15438
URL:https://jewishdetroitcalendar.org/event/mosaic-pendant-workshop-with-sue-majetski/
LOCATION:Janice Charach Gallery 6600 W Maple Rd\,
CATEGORIES:All Ages,Arts & Culture,Coffee,Educational,Items for sale,Non Alc. Drinks For Purchase,Parking (free),Special Guest,Wheelchair Accessible,WiFi,Women
ATTACH;FMTTYPE=image/jpeg:https://jewishdetroitcalendar.org/wp-content/uploads/2026/04/pendant_HERO_IMAGE_copy-WJqC0c.jpg
ORGANIZER;CN="Janice Charach Gallery":MAILTO:gallery@jccdet.org
END:VEVENT
END:VCALENDAR