BEGIN:VCALENDAR
VERSION:2.0
PRODID:-//Jewish Detroit Community Calendar - ECPv6.15.11//NONSGML v1.0//EN
CALSCALE:GREGORIAN
METHOD:PUBLISH
X-WR-CALNAME:Jewish Detroit Community Calendar
X-ORIGINAL-URL:https://jewishdetroitcalendar.org
X-WR-CALDESC:Events for Jewish Detroit Community Calendar
REFRESH-INTERVAL;VALUE=DURATION:PT1H
X-Robots-Tag:noindex
X-PUBLISHED-TTL:PT1H
BEGIN:VTIMEZONE
TZID:America/Detroit
BEGIN:DAYLIGHT
TZOFFSETFROM:-0500
TZOFFSETTO:-0400
TZNAME:EDT
DTSTART:20250309T070000
END:DAYLIGHT
BEGIN:STANDARD
TZOFFSETFROM:-0400
TZOFFSETTO:-0500
TZNAME:EST
DTSTART:20251102T060000
END:STANDARD
BEGIN:DAYLIGHT
TZOFFSETFROM:-0500
TZOFFSETTO:-0400
TZNAME:EDT
DTSTART:20260308T070000
END:DAYLIGHT
BEGIN:STANDARD
TZOFFSETFROM:-0400
TZOFFSETTO:-0500
TZNAME:EST
DTSTART:20261101T060000
END:STANDARD
BEGIN:DAYLIGHT
TZOFFSETFROM:-0500
TZOFFSETTO:-0400
TZNAME:EDT
DTSTART:20270314T070000
END:DAYLIGHT
BEGIN:STANDARD
TZOFFSETFROM:-0400
TZOFFSETTO:-0500
TZNAME:EST
DTSTART:20271107T060000
END:STANDARD
END:VTIMEZONE
BEGIN:VEVENT
DTSTART;TZID=America/Detroit:20260411T170000
DTEND;TZID=America/Detroit:20260411T200000
DTSTAMP:20260422T054309
CREATED:20260312T020111Z
LAST-MODIFIED:20260411T232940Z
UID:10007473-1775926800-1775937600@jewishdetroitcalendar.org
SUMMARY:Slow Down and Sing - Maple Sap Boil\, Seed Packing and Havdalah
DESCRIPTION:Join Repair the World Detroit and Congregation T’chiyah for a magical eveningrooted in Jewish earth-based tradition! Special guest educator Carly Sugar ofChamomile Gardens will guide us through a maple sap boil\, we will join in songfor Havdalah\, and volunteer by seed packing to support Keep Growing Detroit —all around a campfire in a beautiful Detroit backyard. \nTogether\, we’ll mark the end of Shabbat\, celebrate the season\, and connect ourJewish values to the living world around us. Our seed packing service projectwill help Keep Growing Detroit offer gardening resources to communities andpeople across the city — food justice growing from the ground up. \nThis event is outdoors\, so please dress for the weather and come ready togather around the fire. The address will be shared with registeredparticipants closer to the event date. \nOrganized by: Repair The World\, Congregation T’chiyah \nView event on Jlive: https://jlive.app/events/15159
URL:https://jewishdetroitcalendar.org/event/slow-down-and-sing-maple-sap-boil-seed-packing-and-havdalah/
LOCATION:MI
CATEGORIES:Educational,Food Provided,Nature,Outdoors,Parking (free),Special Guest,Spirituality,Vegetarian Friendly,Volunteering
ATTACH;FMTTYPE=image/png:https://jewishdetroitcalendar.org/wp-content/uploads/2026/03/Sukkot_Building_with_ChabaD-c3OOja.png
ORGANIZER;CN="Repair The World":MAILTO:detroitteam@werepair.org
END:VEVENT
BEGIN:VEVENT
DTSTART;TZID=America/Detroit:20260411T100000
DTEND;TZID=America/Detroit:20260411T130000
DTSTAMP:20260422T054309
CREATED:20260401T005957Z
LAST-MODIFIED:20260411T164439Z
UID:10008447-1775901600-1775912400@jewishdetroitcalendar.org
SUMMARY:Spokes and Service
DESCRIPTION:**Ride with us!** \nSpokes and Service is a new monthly bike ride led by **Service AmbassadorMitch Barnett** \, connecting Detroit cyclists to the people and organizationsworking to build a more just community. Each ride travels from Ferndale to aDetroit nonprofit partner\, pairing miles with meaning through education aboutlocal volunteer opportunities. \nOur first ride stops at the Pope Francis Center\, which serves Detroitersexperiencing homelessness through daily meals\, medical and behavioral healthservices\, housing navigation\, and long-term supportive housing. Their workmeets urgent needs while helping people move toward stability. \nWe will also collect nonperishable food items each ride to donate to acommunity fridge. Please bring a nonperishable food donation. Route providedafter registration. \n**This will be a no-drop ride. We plan to average 11–14 mph and ride apredetermined route of 27–35 miles.** \nPlease reach out with any questions or concerns. \nOrganized by: Repair The World \nView event on Jlive: https://jlive.app/events/15370
URL:https://jewishdetroitcalendar.org/event/spokes-and-service/
LOCATION:Ferndale Project 567 Livernois\, Ferndale
CATEGORIES:Adults,College Students,Educational,Nature,Older Adults,Outdoors,Parking (free),Sports & Fitness,Teens,Volunteering,Young Adults
ATTACH;FMTTYPE=image/png:https://jewishdetroitcalendar.org/wp-content/uploads/2026/03/Copy_of_Were_Back_960_x_600_px-Ag4WAd.png
ORGANIZER;CN="Repair The World":MAILTO:detroitteam@werepair.org
END:VEVENT
BEGIN:VEVENT
DTSTART;TZID=America/Detroit:20260410T173000
DTEND;TZID=America/Detroit:20260410T193000
DTSTAMP:20260422T054309
CREATED:20260210T163216Z
LAST-MODIFIED:20260410T231440Z
UID:10007212-1775842200-1775849400@jewishdetroitcalendar.org
SUMMARY:Turkish Shabbat
DESCRIPTION:The tradition of honoring the **Ray Maisel (z”l) Global Jewish DiversityInitiative**  continues with a special Turkish Shabbat\, featuring**  guestCantor Yaakov Abudaram** and **educator Ruben Shimonov**(offer the Shabbatmorning sermon). We extend our heartfelt thanks to **Gina and Yuksel Erpardo**for sharing their delicious Jewish Turkish recipes at Shabbat kiddush\, and forjoining our guest speakers for a meaningful Turkish Jewry program followingShabbat morning services. \nAs we celebrate this Turkish Shabbat\, we lovingly remember Dr. Harry Maiselz”l\, whose devotion to his wife Ray was the inspiration for ongoingprogramming that celebrates global Jewish diversity. He founded our RachelElias Maisel Bukharian Textile Collection. Harry’s commitment to promotingunderstanding of the wide range of Jewish cultures and traditions will alwaysbe cherished. We hope you’ll join us for Turkish Shabbat and celebrate thispart of his legacy. \nFriday\, April 10 \n5:30pm – a Lite Nosh \n6:00pm – Shabbat Rocks \nSaturday\, April 11 \n9:00am – Shabbat Services \n9:30am – Drop off supervised child programming \n9:45am – Shabbat Torah Study with Rabbi Bergman \n10:30am – Family MiniMinyan with Rabbi Bergman \nEnd of services – Joan & Bob Epstein special monthly Kiddush featuring Turkishfoods \n12pm – post Kiddush program “Turkish Jewry” with Ruben\, Yaakov\, and Gina andYuksel Erpardo (Supervised childcare is available during this program) \nOrganized by: Adat Shalom Synagogue \nView event on Jlive: https://jlive.app/events/14629
URL:https://jewishdetroitcalendar.org/event/shabbat-rocks-during-turkish-shabbat/
LOCATION:Adat Shalom Synagogue 29901 Middlebelt Rd\, Farmington Hills
CATEGORIES:All Ages,Jewish Holiday,Shabbat
ATTACH;FMTTYPE=image/png:https://jewishdetroitcalendar.org/wp-content/uploads/2026/02/Turkish_Shabbat_2026_3.625x4.5_2-d3RUf0.png
ORGANIZER;CN="Adat Shalom Synagogue":MAILTO:info@adatshalom.org
END:VEVENT
BEGIN:VEVENT
DTSTART;TZID=America/Detroit:20260410T100000
DTEND;TZID=America/Detroit:20260410T110000
DTSTAMP:20260422T054309
CREATED:20260223T164728Z
LAST-MODIFIED:20260410T145940Z
UID:10007314-1775815200-1775818800@jewishdetroitcalendar.org
SUMMARY:Teva Tots & Shabbat
DESCRIPTION:Get outside and explore _teva -_ nature. \nTogether\, we’ll learn all about the changing world around us and enjoy thewonder of being in nature. We’ll also take some time to celebrate Shabbat andcreate new rituals for the family! \nOrganized by: Adat Shalom Synagogue \nView event on Jlive: https://jlive.app/events/14914
URL:https://jewishdetroitcalendar.org/event/teva-tots-shabbat/
LOCATION:Adat Shalom Synagogue 29901 Middlebelt Rd\, Farmington Hills
CATEGORIES:Grandparents,Parents,Young Children
ATTACH;FMTTYPE=image/png:https://jewishdetroitcalendar.org/wp-content/uploads/2026/02/TTS_jlive-zQmqp5.png
ORGANIZER;CN="Adat Shalom Synagogue":MAILTO:info@adatshalom.org
END:VEVENT
BEGIN:VEVENT
DTSTART;TZID=America/Detroit:20260409T190000
DTEND;TZID=America/Detroit:20260409T210000
DTSTAMP:20260422T054309
CREATED:20260210T171702Z
LAST-MODIFIED:20260403T005940Z
UID:10007214-1775761200-1775768400@jewishdetroitcalendar.org
SUMMARY:Break the Bread & Brews: A CORe Night Out
DESCRIPTION:Join The CORe for **Break the Bread & Brews**\, a relaxed dinner gathering atElephant & Co in Royal Oak. Together\, we’ll toast the end of Passover\, enjoygreat food\, craft drinks\, and spend the evening connecting with other youngJewish adults from across the Woodward Corridor. \nYoung Adults 21+ | Open to the community \nRegistration required. \nSign-up here: [Break the Bread & Brews: A CORe Night Out – Event – TempleIsrael](https://www.temple-israel.org/event/thecorebreadbrews) \nOrganized by: Temple Israel \nView event on Jlive: https://jlive.app/events/14635
URL:https://jewishdetroitcalendar.org/event/break-the-bread-brews-a-core-night-out/
LOCATION:Elephant & Co. Royal Oak 330 E Lincoln Ave\, Royal Oak
CATEGORIES:Young Adults
ATTACH;FMTTYPE=image/jpeg:https://jewishdetroitcalendar.org/wp-content/uploads/2026/02/TheCOReBreakthebreadBrewsJlive-anHh6l.jpg
ORGANIZER;CN="Temple Israel":MAILTO:kheraud@temple-israel.org
END:VEVENT
BEGIN:VEVENT
DTSTART;TZID=America/Detroit:20260409T110000
DTEND;TZID=America/Detroit:20260409T120000
DTSTAMP:20260422T054309
CREATED:20260203T140020Z
LAST-MODIFIED:20260203T140020Z
UID:10007153-1775732400-1775736000@jewishdetroitcalendar.org
SUMMARY:Strengthening Minds Together*: Classes for caregivers and their loved ones with dementia
DESCRIPTION:Living with a loved one on the dementia journey can make us wonder about our own cognitive health. Mind University’s proven cognitive training classes are fun\, interactive and translate to real-world results. While you take time to sharpen your mind\, your loved one will be engaged in a class just right for them. \nClasses target and challenge six critical cognitive functions with increasing speed and difficulty as sessions progress. \nMondays and Thursdays starting March 2 at 11am \nClasses run for 12 weeks and are held at The J. \nInterested? Contact 248.788.MIND or MindU@jfsdetroit.org. \n  \n*A program of Jewish Family Service’s Caring Connections Neighborhood Hub
URL:https://jewishdetroitcalendar.org/event/strengthening-minds-together-classes-for-caregivers-and-their-loved-ones-with-dementia/2026-04-09/
LOCATION:The J\, 6600 West Maple Road\, West Bloomfield\, MI\, 48323\, United States
CATEGORIES:Active Aging,Caregiving,Health & Wellness,Mental Health,Older Adults,Senior
ATTACH;FMTTYPE=image/jpeg:https://jewishdetroitcalendar.org/wp-content/uploads/2026/02/Hub-Mind-U-Classes-March-2026-scaled.jpg
END:VEVENT
BEGIN:VEVENT
DTSTART;TZID=America/Detroit:20260409T103000
DTEND;TZID=America/Detroit:20260409T123000
DTSTAMP:20260422T054309
CREATED:20260121T174449Z
LAST-MODIFIED:20260403T005940Z
UID:10007000-1775730600-1775737800@jewishdetroitcalendar.org
SUMMARY:Family Pesach Challenge
DESCRIPTION:Join us for family-friendly Pesach themed games – Reed Sea Crossing\, PyramidKnock Out\, Keep the Arbeh Up\, and more!!! Supervised play available from9:30-10:30am \nOrganized by: Adat Shalom Synagogue \nView event on Jlive: https://jlive.app/events/14334
URL:https://jewishdetroitcalendar.org/event/family-pesach-challenge/
LOCATION:Adat Shalom Synagogue 29901 Middlebelt Rd\, Farmington Hills
CATEGORIES:Children,Families,Grandparents,Jewish Holiday,Passover,Young Children
ATTACH;FMTTYPE=image/png:https://jewishdetroitcalendar.org/wp-content/uploads/2026/01/family_pesach_jlive-9ZOd4V.png
ORGANIZER;CN="Adat Shalom Synagogue":MAILTO:info@adatshalom.org
END:VEVENT
BEGIN:VEVENT
DTSTART;TZID=America/Detroit:20260408T030000
DTEND;TZID=America/Detroit:20260409T025959
DTSTAMP:20260422T054309
CREATED:20240525T182903Z
LAST-MODIFIED:20260408T145932Z
UID:10002996-1775617200-1775703599@jewishdetroitcalendar.org
SUMMARY:Passover (Day 7)
DESCRIPTION:
URL:https://jewishdetroitcalendar.org/event/passover-day-7-6/
LOCATION:MI
CATEGORIES:Holidays
END:VEVENT
BEGIN:VEVENT
DTSTART;TZID=America/Detroit:20260408T030000
DTEND;TZID=America/Detroit:20260409T025959
DTSTAMP:20260422T054309
CREATED:20240425T181427Z
LAST-MODIFIED:20240425T181427Z
UID:10002814-1775617200-1775703599@jewishdetroitcalendar.org
SUMMARY:Passover (Day 7)
DESCRIPTION:
URL:https://jewishdetroitcalendar.org/event/passover-day-7-4/
LOCATION:MI
CATEGORIES:Holidays
END:VEVENT
BEGIN:VEVENT
DTSTART;TZID=America/Detroit:20260407T160000
DTEND;TZID=America/Detroit:20260407T173000
DTSTAMP:20260422T054309
CREATED:20260312T024617Z
LAST-MODIFIED:20260403T005940Z
UID:10007474-1775577600-1775583000@jewishdetroitcalendar.org
SUMMARY:Gardening and Dinner - A night of Service and Connection
DESCRIPTION:Join Repair the World Detroit\, Adamah on Campus\, Michigan Hillel\, and BethIsrael Ann Arbor for a joyful evening of service\, learning\, and connection! \nTogether we’ll get our hands in the soil\, explore the Jewish values connectingus to environmental justice and food justice\, and build community over ashared dinner. This is Jewish service and learning in action — rooted in theearth\, nourishing the soul. \nThis event is outdoors\, so please dress for the weather and wear clothes youdon’t mind getting dirty — gardening tends to leave its mark! \nCome ready to serve\, learn\, and share a meal with your community. Moredetails\, including location\, will be provided upon registration. \nOrganized by: Repair The World\, Adamah Detroit \nView event on Jlive: https://jlive.app/events/15160
URL:https://jewishdetroitcalendar.org/event/gardening-and-dinner-a-night-of-service-and-connection/
LOCATION:County Farm Park 2230 Platt Rd\, Ann Arbor
CATEGORIES:Environment and Sustainability,Food Provided,Kosher Food,Nature,Outdoors,Vegetarian Friendly,Volunteering
ATTACH;FMTTYPE=image/png:https://jewishdetroitcalendar.org/wp-content/uploads/2026/03/Sukkot_Building_with_ChabaD_1-713hit.png
ORGANIZER;CN="Repair The World":MAILTO:detroitteam@werepair.org
END:VEVENT
BEGIN:VEVENT
DTSTART;TZID=America/Detroit:20260407T030000
DTEND;TZID=America/Detroit:20260408T025959
DTSTAMP:20260422T054309
CREATED:20240525T182915Z
LAST-MODIFIED:20260309T145932Z
UID:10002997-1775530800-1775617199@jewishdetroitcalendar.org
SUMMARY:Passover (Day 6)
DESCRIPTION:
URL:https://jewishdetroitcalendar.org/event/passover-day-6-6/
LOCATION:MI
CATEGORIES:Holidays
END:VEVENT
BEGIN:VEVENT
DTSTART;TZID=America/Detroit:20260407T030000
DTEND;TZID=America/Detroit:20260408T025959
DTSTAMP:20260422T054309
CREATED:20240425T181427Z
LAST-MODIFIED:20240425T181427Z
UID:10002813-1775530800-1775617199@jewishdetroitcalendar.org
SUMMARY:Passover (Day 6)
DESCRIPTION:
URL:https://jewishdetroitcalendar.org/event/passover-day-6-4/
LOCATION:MI
CATEGORIES:Holidays
END:VEVENT
END:VCALENDAR